Workbook

Sheet Instructions
A1: #VALUE!
A6: Workbook Guide
A8: Updating the workbook with the latest data.
B10: The "Raw Data" tab is where the Clifton Strengths 34 strengths data can be pasted.
B11: The Identifer 1 & 2 columns are optional drop downs that allow for some filtering throughout the workbook.
B12: To update the options on these 2 columns you can change the options in the Identifier 1 & 2 tables on the settings tab, click the link below to navigate to these tables
B13: Identifer tables
B14: Once the Raw Data tab has new data pasted into it and the identifer columns have been updated then navigate to the "Refresh Data" tab. Right click in the data and click refresh.
B27: Once refreshed all of the other tabs will be updated and ready to use.
B28: If any of the data in the raw data tab is updated/ removed then the refresh data tab needs to be refreshed again to be reflected across the workbook.

Sheet Team>>>

Sheet Team Grid
B1: Team Strengths Grid
D2: Primary Theme Filter | E2: Top 5 | G2: Executing | P2: Infleuncing | X2: Relationship Building | AG2: Strategic Thinking
D3: Secondary Theme Filter | G3: =O3/SUM($AP$7:$AS$7) -> #DIV/0! | H3: =AX7&" People" -> 0 People | O3: =AP7 -> 0 | P3: =W3/SUM($AP$7:$AS$7) -> #DIV/0! | Q3: =AY7&" People" -> 0 People | W3: =AQ7 -> 0 | X3: =AF3/SUM($AP$7:$AS$7) -> #DIV/0! | Y3: =AZ7&" People" -> 0 People | AF3: =AR7 -> 0 | AG3: =AN3/SUM($AP$7:$AS$7) -> #DIV/0! | AH3: =BA7&" People" -> 0 People | AN3: =AS7 -> 0
B4: #VALUE! | G4: =Settings!E4 -> People with dominant Executing themes make things happen. | P4: =Settings!E5 -> People with dominant Influencing themes take charge, speak up, and make sure others are heard. | X4: =Settings!E6 -> People with dominant Relationship Building themes build strong relationships that hold a team together and make it greater than the sum of its parts. | AG4: =Settings!E7 -> People with dominant Strategic Thinking themes absorb and analyze information that informs better decisions.
G5: =Settings!F4 -> These themes help people understand the details and know exactly How it should be done, then they see it through to completion. | P5: =Settings!F5 -> These themes help people take the What and provide the Why, giving motivation and energy to move forward. | X5: =Settings!F6 -> These themes help people understand about the team members, Who to involve and Who is best for each task. | AG5: =Settings!F7 -> These themes help people know the facts about What has happened, What is happening and What is the best way forward. | BC5: Helper Columns | CM5: Primary Theme Helper Columns
G6: Achiever | H6: Arranger | I6: Belief | J6: Consistency | K6: Deliberative | L6: Discipline | M6: Focus | N6: Responsibility | O6: Restorative | P6: Activator | Q6: Command | R6: Communication | S6: Competition | T6: Maximizer | U6: Self-Assurance | V6: Significance | W6: Woo | X6: Adaptability | Y6: Connectedness | Z6: Developer | AA6: Empathy | AB6: Harmony | AC6: Includer | AD6: Individualization | AE6: Positivity | AF6: Relator | AG6: Analytical | AH6: Context | AI6: Futuristic | AJ6: Ideation | AK6: Input | AL6: Intellection | AM6: Learner | AN6: Strategic | AP6: Executing | AQ6: Influencing | AR6: Relationship Building | AS6: Strategic Thinking | AW6: Total People | AX6: =AP6 -> Executing | AY6: =AQ6 -> Influencing | AZ6: =AR6 -> Relationship Building | BA6: =AS6 -> Strategic Thinking | BC6: =G6 -> Achiever | BD6: =H6 -> Arranger | BE6: =I6 -> Belief | BF6: =J6 -> Consistency | BG6: =K6 -> Deliberative | BH6: =L6 -> Discipline | BI6: =M6 -> Focus | BJ6: =N6 -> Responsibility | ... CJ6: =AN6 -> Strategic | CM6: =AQ6 -> Influencing | CN6: =AR6 -> Relationship Building | CO6: =AS6 -> Strategic Thinking | CP6: =AT6 -> 0 | CQ6: =AU6 -> 0 | CR6: =AV6 -> 0 | CS6: =AW6 -> Total People | CT6: =AX6 -> Executing | ... DT6: =BX6 -> Harmony
AP7: =SUBTOTAL(9,AP9:AP58) -> 0 | AQ7: =SUBTOTAL(9,AQ9:AQ58) -> 0 | AR7: =SUBTOTAL(9,AR9:AR58) -> 0 | AS7: =SUBTOTAL(9,AS9:AS58) -> 0 | AV7: Helper | AW7: =SUBTOTAL(9,AW9:AW58) -> 0 | AX7: =SUBTOTAL(9,AX9:AX58) -> 0 | AY7: =SUBTOTAL(9,AY9:AY58) -> 0 | AZ7: =SUBTOTAL(9,AZ9:AZ58) -> 0 | BA7: =SUBTOTAL(9,BA9:BA58) -> 0
A8: Full Name Conc | B8: =Data_Table[[#Headers],[Identifier 1]] -> Identifier 1 | C8: =Data_Table[[#Headers],[Identifier 2]] -> Identifier 2 | D8: First Name | E8: Surname | AV8: =E2 -> Top 5
A9: =D9&" "&E9 | B9: =IF('Raw Data'!B4="","",'Raw Data'!B4) | C9: =IF('Raw Data'!C4="","",'Raw Data'!C4) | D9: =IF('Raw Data'!D4="","",'Raw Data'!D4) | E9: =IF('Raw Data'!E4="","",'Raw Data'!E4) | G9: =IF(OR(IFERROR(AND(VLOOKUP($E$2,Theme_Ranges[],2,0)<=BC9,VLOOKUP($E$2,Theme_Ranges[],3,0)>=BC9),FALSE),IFERROR(AND(VLOOKUP($E$3,Theme_Ranges[],2,0)<=BC9,VLOOKUP($E$3,Theme_Ranges[],3,0)>=BC9),FALSE)),BC9,"") | H9: =IF(OR(IFERROR(AND(VLOOKUP($E$2,Theme_Ranges[],2,0)<=BD9,VLOOKUP($E$2,Theme_Ranges[],3,0)>=BD9),FALSE),IFERROR(AND(VLOOKUP($E$3,Theme_Ranges[],2,0)<=BD9,VLOOKUP($E$3,Theme_Ranges[],3,0)>=BD9),FALSE)),BD9,"") | I9: =IF(OR(IFERROR(AND(VLOOKUP($E$2,Theme_Ranges[],2,0)<=BE9,VLOOKUP($E$2,Theme_Ranges[],3,0)>=BE9),FALSE),IFERROR(AND(VLOOKUP($E$3,Theme_Ranges[],2,0)<=BE9,VLOOKUP($E$3,Theme_Ranges[],3,0)>=BE9),FALSE)),BE9,"") | J9: =IF(OR(IFERROR(AND(VLOOKUP($E$2,Theme_Ranges[],2,0)<=BF9,VLOOKUP($E$2,Theme_Ranges[],3,0)>=BF9),FALSE),IFERROR(AND(VLOOKUP($E$3,Theme_Ranges[],2,0)<=BF9,VLOOKUP($E$3,Theme_Ranges[],3,0)>=BF9),FALSE)),BF9,"") | K9: =IF(OR(IFERROR(AND(VLOOKUP($E$2,Theme_Ranges[],2,0)<=BG9,VLOOKUP($E$2,Theme_Ranges[],3,0)>=BG9),FALSE),IFERROR(AND(VLOOKUP($E$3,Theme_Ranges[],2,0)<=BG9,VLOOKUP($E$3,Theme_Ranges[],3,0)>=BG9),FALSE)),BG9,"") | L9: =IF(OR(IFERROR(AND(VLOOKUP($E$2,Theme_Ranges[],2,0)<=BH9,VLOOKUP($E$2,Theme_Ranges[],3,0)>=BH9),FALSE),IFERROR(AND(VLOOKUP($E$3,Theme_Ranges[],2,0)<=BH9,VLOOKUP($E$3,Theme_Ranges[],3,0)>=BH9),FALSE)),BH9,"") | M9: =IF(OR(IFERROR(AND(VLOOKUP($E$2,Theme_Ranges[],2,0)<=BI9,VLOOKUP($E$2,Theme_Ranges[],3,0)>=BI9),FALSE),IFERROR(AND(VLOOKUP($E$3,Theme_Ranges[],2,0)<=BI9,VLOOKUP($E$3,Theme_Ranges[],3,0)>=BI9),FALSE)),BI9,"") | N9: =IF(OR(IFERROR(AND(VLOOKUP($E$2,Theme_Ranges[],2,0)<=BJ9,VLOOKUP($E$2,Theme_Ranges[],3,0)>=BJ9),FALSE),IFERROR(AND(VLOOKUP($E$3,Theme_Ranges[],2,0)<=BJ9,VLOOKUP($E$3,Theme_Ranges[],3,0)>=BJ9),FALSE)),BJ9,"") | ... AN9: =IF(OR(IFERROR(AND(VLOOKUP($E$2,Theme_Ranges[],2,0)<=CJ9,VLOOKUP($E$2,Theme_Ranges[],3,0)>=CJ9),FALSE),IFERROR(AND(VLOOKUP($E$3,Theme_Ranges[],2,0)<=CJ9,VLOOKUP($E$3,Theme_Ranges[],3,0)>=CJ9),FALSE)),CJ9,"") | AP9: =IF(D9="","",COUNTIF($G9:$O9,"<="&AV9)) | AQ9: =IF(D9="","",COUNTIF($P9:$W9,"<="&AV9)) | AR9: =IF(D9="","",COUNTIF($X9:$AF9,"<="&AV9)) | AS9: =IF(D9="","",COUNTIF($AG9:$AN9,"<="&AV9)) | AV9: =VLOOKUP($AV$8,Theme_Ranges[],3,0) -> 5 | AW9: =IF(D9="",0,1) -> 0 | AX9: =IF(COUNTIF($G9:$O9,"<="&AV9)>0,1,0) -> 0 | AY9: =IF(COUNTIF($P9:$W9,"<="&AV9)>0,1,0) -> 0 | AZ9: =IF(COUNTIF($X9:$AF9,"<="&AV9)>0,1,0) -> 0 | BA9: =IF(COUNTIF($AG9:$AN9,"<="&AV9)>0,1,0) -> 0 | BC9: =IF($D9="","",VLOOKUP($A9&G$6,Data_Table_1[[Full Name Theme Conc]:[Theme Ranking]],8,0)) | BD9: =IF($D9="","",VLOOKUP($A9&H$6,Data_Table_1[[Full Name Theme Conc]:[Theme Ranking]],8,0)) | BE9: =IF($D9="","",VLOOKUP($A9&I$6,Data_Table_1[[Full Name Theme Conc]:[Theme Ranking]],8,0)) | BF9: =IF($D9="","",VLOOKUP($A9&J$6,Data_Table_1[[Full Name Theme Conc]:[Theme Ranking]],8,0)) | BG9: =IF($D9="","",VLOOKUP($A9&K$6,Data_Table_1[[Full Name Theme Conc]:[Theme Ranking]],8,0)) | BH9: =IF($D9="","",VLOOKUP($A9&L$6,Data_Table_1[[Full Name Theme Conc]:[Theme Ranking]],8,0)) | BI9: =IF($D9="","",VLOOKUP($A9&M$6,Data_Table_1[[Full Name Theme Conc]:[Theme Ranking]],8,0)) | BJ9: =IF($D9="","",VLOOKUP($A9&N$6,Data_Table_1[[Full Name Theme Conc]:[Theme Ranking]],8,0)) | ... CJ9: =IF($D9="","",VLOOKUP($A9&AN$6,Data_Table_1[[Full Name Theme Conc]:[Theme Ranking]],8,0)) | CM9: =IF(AND(VLOOKUP($E$2,Theme_Ranges[],2,0)<=BC9,VLOOKUP($E$2,Theme_Ranges[],3,0)>=BC9),BC9,"") | CN9: =IF(AND(VLOOKUP($E$2,Theme_Ranges[],2,0)<=BD9,VLOOKUP($E$2,Theme_Ranges[],3,0)>=BD9),BD9,"") | CO9: =IF(AND(VLOOKUP($E$2,Theme_Ranges[],2,0)<=BE9,VLOOKUP($E$2,Theme_Ranges[],3,0)>=BE9),BE9,"") | CP9: =IF(AND(VLOOKUP($E$2,Theme_Ranges[],2,0)<=BF9,VLOOKUP($E$2,Theme_Ranges[],3,0)>=BF9),BF9,"") | CQ9: =IF(AND(VLOOKUP($E$2,Theme_Ranges[],2,0)<=BG9,VLOOKUP($E$2,Theme_Ranges[],3,0)>=BG9),BG9,"") | CR9: =IF(AND(VLOOKUP($E$2,Theme_Ranges[],2,0)<=BH9,VLOOKUP($E$2,Theme_Ranges[],3,0)>=BH9),BH9,"") | CS9: =IF(AND(VLOOKUP($E$2,Theme_Ranges[],2,0)<=BI9,VLOOKUP($E$2,Theme_Ranges[],3,0)>=BI9),BI9,"") | CT9: =IF(AND(VLOOKUP($E$2,Theme_Ranges[],2,0)<=BJ9,VLOOKUP($E$2,Theme_Ranges[],3,0)>=BJ9),BJ9,"") | ... DT9: =IF(AND(VLOOKUP($E$2,Theme_Ranges[],2,0)<=CJ9,VLOOKUP($E$2,Theme_Ranges[],3,0)>=CJ9),CJ9,"")
A10: =D10&" "&E10 | B10: =IF('Raw Data'!B5="","",'Raw Data'!B5) | C10: =IF('Raw Data'!C5="","",'Raw Data'!C5) | D10: =IF('Raw Data'!D5="","",'Raw Data'!D5) | E10: =IF('Raw Data'!E5="","",'Raw Data'!E5) | G10: =IF(OR(IFERROR(AND(VLOOKUP($E$2,Theme_Ranges[],2,0)<=BC10,VLOOKUP($E$2,Theme_Ranges[],3,0)>=BC10),FALSE),IFERROR(AND(VLOOKUP($E$3,Theme_Ranges[],2,0)<=BC10,VLOOKUP($E$3,Theme_Ranges[],3,0)>=BC10),FALSE)),BC10,"") | H10: =IF(OR(IFERROR(AND(VLOOKUP($E$2,Theme_Ranges[],2,0)<=BD10,VLOOKUP($E$2,Theme_Ranges[],3,0)>=BD10),FALSE),IFERROR(AND(VLOOKUP($E$3,Theme_Ranges[],2,0)<=BD10,VLOOKUP($E$3,Theme_Ranges[],3,0)>=BD10),FALSE)),BD10,"") | I10: =IF(OR(IFERROR(AND(VLOOKUP($E$2,Theme_Ranges[],2,0)<=BE10,VLOOKUP($E$2,Theme_Ranges[],3,0)>=BE10),FALSE),IFERROR(AND(VLOOKUP($E$3,Theme_Ranges[],2,0)<=BE10,VLOOKUP($E$3,Theme_Ranges[],3,0)>=BE10),FALSE)),BE10,"") | J10: =IF(OR(IFERROR(AND(VLOOKUP($E$2,Theme_Ranges[],2,0)<=BF10,VLOOKUP($E$2,Theme_Ranges[],3,0)>=BF10),FALSE),IFERROR(AND(VLOOKUP($E$3,Theme_Ranges[],2,0)<=BF10,VLOOKUP($E$3,Theme_Ranges[],3,0)>=BF10),FALSE)),BF10,"") | K10: =IF(OR(IFERROR(AND(VLOOKUP($E$2,Theme_Ranges[],2,0)<=BG10,VLOOKUP($E$2,Theme_Ranges[],3,0)>=BG10),FALSE),IFERROR(AND(VLOOKUP($E$3,Theme_Ranges[],2,0)<=BG10,VLOOKUP($E$3,Theme_Ranges[],3,0)>=BG10),FALSE)),BG10,"") | L10: =IF(OR(IFERROR(AND(VLOOKUP($E$2,Theme_Ranges[],2,0)<=BH10,VLOOKUP($E$2,Theme_Ranges[],3,0)>=BH10),FALSE),IFERROR(AND(VLOOKUP($E$3,Theme_Ranges[],2,0)<=BH10,VLOOKUP($E$3,Theme_Ranges[],3,0)>=BH10),FALSE)),BH10,"") | M10: =IF(OR(IFERROR(AND(VLOOKUP($E$2,Theme_Ranges[],2,0)<=BI10,VLOOKUP($E$2,Theme_Ranges[],3,0)>=BI10),FALSE),IFERROR(AND(VLOOKUP($E$3,Theme_Ranges[],2,0)<=BI10,VLOOKUP($E$3,Theme_Ranges[],3,0)>=BI10),FALSE)),BI10,"") | N10: =IF(OR(IFERROR(AND(VLOOKUP($E$2,Theme_Ranges[],2,0)<=BJ10,VLOOKUP($E$2,Theme_Ranges[],3,0)>=BJ10),FALSE),IFERROR(AND(VLOOKUP($E$3,Theme_Ranges[],2,0)<=BJ10,VLOOKUP($E$3,Theme_Ranges[],3,0)>=BJ10),FALSE)),BJ10,"") | ... AN10: =IF(OR(IFERROR(AND(VLOOKUP($E$2,Theme_Ranges[],2,0)<=CJ10,VLOOKUP($E$2,Theme_Ranges[],3,0)>=CJ10),FALSE),IFERROR(AND(VLOOKUP($E$3,Theme_Ranges[],2,0)<=CJ10,VLOOKUP($E$3,Theme_Ranges[],3,0)>=CJ10),FALSE)),CJ10,"") | AP10: =IF(D10="","",COUNTIF($G10:$O10,"<="&AV10)) | AQ10: =IF(D10="","",COUNTIF($P10:$W10,"<="&AV10)) | AR10: =IF(D10="","",COUNTIF($X10:$AF10,"<="&AV10)) | AS10: =IF(D10="","",COUNTIF($AG10:$AN10,"<="&AV10)) | AV10: =VLOOKUP($AV$8,Theme_Ranges[],3,0) -> 5 | AW10: =IF(D10="",0,1) -> 0 | AX10: =IF(COUNTIF($G10:$O10,"<="&AV10)>0,1,0) -> 0 | AY10: =IF(COUNTIF($P10:$W10,"<="&AV10)>0,1,0) -> 0 | AZ10: =IF(COUNTIF($X10:$AF10,"<="&AV10)>0,1,0) -> 0 | BA10: =IF(COUNTIF($AG10:$AN10,"<="&AV10)>0,1,0) -> 0 | BC10: =IF($D10="","",VLOOKUP($A10&G$6,Data_Table_1[[Full Name Theme Conc]:[Theme Ranking]],8,0)) | BD10: =IF($D10="","",VLOOKUP($A10&H$6,Data_Table_1[[Full Name Theme Conc]:[Theme Ranking]],8,0)) | BE10: =IF($D10="","",VLOOKUP($A10&I$6,Data_Table_1[[Full Name Theme Conc]:[Theme Ranking]],8,0)) | BF10: =IF($D10="","",VLOOKUP($A10&J$6,Data_Table_1[[Full Name Theme Conc]:[Theme Ranking]],8,0)) | BG10: =IF($D10="","",VLOOKUP($A10&K$6,Data_Table_1[[Full Name Theme Conc]:[Theme Ranking]],8,0)) | BH10: =IF($D10="","",VLOOKUP($A10&L$6,Data_Table_1[[Full Name Theme Conc]:[Theme Ranking]],8,0)) | BI10: =IF($D10="","",VLOOKUP($A10&M$6,Data_Table_1[[Full Name Theme Conc]:[Theme Ranking]],8,0)) | BJ10: =IF($D10="","",VLOOKUP($A10&N$6,Data_Table_1[[Full Name Theme Conc]:[Theme Ranking]],8,0)) | ... CJ10: =IF($D10="","",VLOOKUP($A10&AN$6,Data_Table_1[[Full Name Theme Conc]:[Theme Ranking]],8,0)) | CM10: =IF(AND(VLOOKUP($E$2,Theme_Ranges[],2,0)<=BC10,VLOOKUP($E$2,Theme_Ranges[],3,0)>=BC10),BC10,"") | CN10: =IF(AND(VLOOKUP($E$2,Theme_Ranges[],2,0)<=BD10,VLOOKUP($E$2,Theme_Ranges[],3,0)>=BD10),BD10,"") | CO10: =IF(AND(VLOOKUP($E$2,Theme_Ranges[],2,0)<=BE10,VLOOKUP($E$2,Theme_Ranges[],3,0)>=BE10),BE10,"") | CP10: =IF(AND(VLOOKUP($E$2,Theme_Ranges[],2,0)<=BF10,VLOOKUP($E$2,Theme_Ranges[],3,0)>=BF10),BF10,"") | CQ10: =IF(AND(VLOOKUP($E$2,Theme_Ranges[],2,0)<=BG10,VLOOKUP($E$2,Theme_Ranges[],3,0)>=BG10),BG10,"") | CR10: =IF(AND(VLOOKUP($E$2,Theme_Ranges[],2,0)<=BH10,VLOOKUP($E$2,Theme_Ranges[],3,0)>=BH10),BH10,"") | CS10: =IF(AND(VLOOKUP($E$2,Theme_Ranges[],2,0)<=BI10,VLOOKUP($E$2,Theme_Ranges[],3,0)>=BI10),BI10,"") | CT10: =IF(AND(VLOOKUP($E$2,Theme_Ranges[],2,0)<=BJ10,VLOOKUP($E$2,Theme_Ranges[],3,0)>=BJ10),BJ10,"") | ... DT10: =IF(AND(VLOOKUP($E$2,Theme_Ranges[],2,0)<=CJ10,VLOOKUP($E$2,Theme_Ranges[],3,0)>=CJ10),CJ10,"")
A11: =D11&" "&E11 | B11: =IF('Raw Data'!B6="","",'Raw Data'!B6) | C11: =IF('Raw Data'!C6="","",'Raw Data'!C6) | D11: =IF('Raw Data'!D6="","",'Raw Data'!D6) | E11: =IF('Raw Data'!E6="","",'Raw Data'!E6) | G11: =IF(OR(IFERROR(AND(VLOOKUP($E$2,Theme_Ranges[],2,0)<=BC11,VLOOKUP($E$2,Theme_Ranges[],3,0)>=BC11),FALSE),IFERROR(AND(VLOOKUP($E$3,Theme_Ranges[],2,0)<=BC11,VLOOKUP($E$3,Theme_Ranges[],3,0)>=BC11),FALSE)),BC11,"") | H11: =IF(OR(IFERROR(AND(VLOOKUP($E$2,Theme_Ranges[],2,0)<=BD11,VLOOKUP($E$2,Theme_Ranges[],3,0)>=BD11),FALSE),IFERROR(AND(VLOOKUP($E$3,Theme_Ranges[],2,0)<=BD11,VLOOKUP($E$3,Theme_Ranges[],3,0)>=BD11),FALSE)),BD11,"") | I11: =IF(OR(IFERROR(AND(VLOOKUP($E$2,Theme_Ranges[],2,0)<=BE11,VLOOKUP($E$2,Theme_Ranges[],3,0)>=BE11),FALSE),IFERROR(AND(VLOOKUP($E$3,Theme_Ranges[],2,0)<=BE11,VLOOKUP($E$3,Theme_Ranges[],3,0)>=BE11),FALSE)),BE11,"") | J11: =IF(OR(IFERROR(AND(VLOOKUP($E$2,Theme_Ranges[],2,0)<=BF11,VLOOKUP($E$2,Theme_Ranges[],3,0)>=BF11),FALSE),IFERROR(AND(VLOOKUP($E$3,Theme_Ranges[],2,0)<=BF11,VLOOKUP($E$3,Theme_Ranges[],3,0)>=BF11),FALSE)),BF11,"") | K11: =IF(OR(IFERROR(AND(VLOOKUP($E$2,Theme_Ranges[],2,0)<=BG11,VLOOKUP($E$2,Theme_Ranges[],3,0)>=BG11),FALSE),IFERROR(AND(VLOOKUP($E$3,Theme_Ranges[],2,0)<=BG11,VLOOKUP($E$3,Theme_Ranges[],3,0)>=BG11),FALSE)),BG11,"") | L11: =IF(OR(IFERROR(AND(VLOOKUP($E$2,Theme_Ranges[],2,0)<=BH11,VLOOKUP($E$2,Theme_Ranges[],3,0)>=BH11),FALSE),IFERROR(AND(VLOOKUP($E$3,Theme_Ranges[],2,0)<=BH11,VLOOKUP($E$3,Theme_Ranges[],3,0)>=BH11),FALSE)),BH11,"") | M11: =IF(OR(IFERROR(AND(VLOOKUP($E$2,Theme_Ranges[],2,0)<=BI11,VLOOKUP($E$2,Theme_Ranges[],3,0)>=BI11),FALSE),IFERROR(AND(VLOOKUP($E$3,Theme_Ranges[],2,0)<=BI11,VLOOKUP($E$3,Theme_Ranges[],3,0)>=BI11),FALSE)),BI11,"") | N11: =IF(OR(IFERROR(AND(VLOOKUP($E$2,Theme_Ranges[],2,0)<=BJ11,VLOOKUP($E$2,Theme_Ranges[],3,0)>=BJ11),FALSE),IFERROR(AND(VLOOKUP($E$3,Theme_Ranges[],2,0)<=BJ11,VLOOKUP($E$3,Theme_Ranges[],3,0)>=BJ11),FALSE)),BJ11,"") | ... AN11: =IF(OR(IFERROR(AND(VLOOKUP($E$2,Theme_Ranges[],2,0)<=CJ11,VLOOKUP($E$2,Theme_Ranges[],3,0)>=CJ11),FALSE),IFERROR(AND(VLOOKUP($E$3,Theme_Ranges[],2,0)<=CJ11,VLOOKUP($E$3,Theme_Ranges[],3,0)>=CJ11),FALSE)),CJ11,"") | AP11: =IF(D11="","",COUNTIF($G11:$O11,"<="&AV11)) | AQ11: =IF(D11="","",COUNTIF($P11:$W11,"<="&AV11)) | AR11: =IF(D11="","",COUNTIF($X11:$AF11,"<="&AV11)) | AS11: =IF(D11="","",COUNTIF($AG11:$AN11,"<="&AV11)) | AV11: =VLOOKUP($AV$8,Theme_Ranges[],3,0) -> 5 | AW11: =IF(D11="",0,1) -> 0 | AX11: =IF(COUNTIF($G11:$O11,"<="&AV11)>0,1,0) -> 0 | AY11: =IF(COUNTIF($P11:$W11,"<="&AV11)>0,1,0) -> 0 | AZ11: =IF(COUNTIF($X11:$AF11,"<="&AV11)>0,1,0) -> 0 | BA11: =IF(COUNTIF($AG11:$AN11,"<="&AV11)>0,1,0) -> 0 | BC11: =IF($D11="","",VLOOKUP($A11&G$6,Data_Table_1[[Full Name Theme Conc]:[Theme Ranking]],8,0)) | BD11: =IF($D11="","",VLOOKUP($A11&H$6,Data_Table_1[[Full Name Theme Conc]:[Theme Ranking]],8,0)) | BE11: =IF($D11="","",VLOOKUP($A11&I$6,Data_Table_1[[Full Name Theme Conc]:[Theme Ranking]],8,0)) | BF11: =IF($D11="","",VLOOKUP($A11&J$6,Data_Table_1[[Full Name Theme Conc]:[Theme Ranking]],8,0)) | BG11: =IF($D11="","",VLOOKUP($A11&K$6,Data_Table_1[[Full Name Theme Conc]:[Theme Ranking]],8,0)) | BH11: =IF($D11="","",VLOOKUP($A11&L$6,Data_Table_1[[Full Name Theme Conc]:[Theme Ranking]],8,0)) | BI11: =IF($D11="","",VLOOKUP($A11&M$6,Data_Table_1[[Full Name Theme Conc]:[Theme Ranking]],8,0)) | BJ11: =IF($D11="","",VLOOKUP($A11&N$6,Data_Table_1[[Full Name Theme Conc]:[Theme Ranking]],8,0)) | ... CJ11: =IF($D11="","",VLOOKUP($A11&AN$6,Data_Table_1[[Full Name Theme Conc]:[Theme Ranking]],8,0)) | CM11: =IF(AND(VLOOKUP($E$2,Theme_Ranges[],2,0)<=BC11,VLOOKUP($E$2,Theme_Ranges[],3,0)>=BC11),BC11,"") | CN11: =IF(AND(VLOOKUP($E$2,Theme_Ranges[],2,0)<=BD11,VLOOKUP($E$2,Theme_Ranges[],3,0)>=BD11),BD11,"") | CO11: =IF(AND(VLOOKUP($E$2,Theme_Ranges[],2,0)<=BE11,VLOOKUP($E$2,Theme_Ranges[],3,0)>=BE11),BE11,"") | CP11: =IF(AND(VLOOKUP($E$2,Theme_Ranges[],2,0)<=BF11,VLOOKUP($E$2,Theme_Ranges[],3,0)>=BF11),BF11,"") | CQ11: =IF(AND(VLOOKUP($E$2,Theme_Ranges[],2,0)<=BG11,VLOOKUP($E$2,Theme_Ranges[],3,0)>=BG11),BG11,"") | CR11: =IF(AND(VLOOKUP($E$2,Theme_Ranges[],2,0)<=BH11,VLOOKUP($E$2,Theme_Ranges[],3,0)>=BH11),BH11,"") | CS11: =IF(AND(VLOOKUP($E$2,Theme_Ranges[],2,0)<=BI11,VLOOKUP($E$2,Theme_Ranges[],3,0)>=BI11),BI11,"") | CT11: =IF(AND(VLOOKUP($E$2,Theme_Ranges[],2,0)<=BJ11,VLOOKUP($E$2,Theme_Ranges[],3,0)>=BJ11),BJ11,"") | ... DT11: =IF(AND(VLOOKUP($E$2,Theme_Ranges[],2,0)<=CJ11,VLOOKUP($E$2,Theme_Ranges[],3,0)>=CJ11),CJ11,"")
A12: =D12&" "&E12 | B12: =IF('Raw Data'!B7="","",'Raw Data'!B7) | C12: =IF('Raw Data'!C7="","",'Raw Data'!C7) | D12: =IF('Raw Data'!D7="","",'Raw Data'!D7) | E12: =IF('Raw Data'!E7="","",'Raw Data'!E7) | G12: =IF(OR(IFERROR(AND(VLOOKUP($E$2,Theme_Ranges[],2,0)<=BC12,VLOOKUP($E$2,Theme_Ranges[],3,0)>=BC12),FALSE),IFERROR(AND(VLOOKUP($E$3,Theme_Ranges[],2,0)<=BC12,VLOOKUP($E$3,Theme_Ranges[],3,0)>=BC12),FALSE)),BC12,"") | H12: =IF(OR(IFERROR(AND(VLOOKUP($E$2,Theme_Ranges[],2,0)<=BD12,VLOOKUP($E$2,Theme_Ranges[],3,0)>=BD12),FALSE),IFERROR(AND(VLOOKUP($E$3,Theme_Ranges[],2,0)<=BD12,VLOOKUP($E$3,Theme_Ranges[],3,0)>=BD12),FALSE)),BD12,"") | I12: =IF(OR(IFERROR(AND(VLOOKUP($E$2,Theme_Ranges[],2,0)<=BE12,VLOOKUP($E$2,Theme_Ranges[],3,0)>=BE12),FALSE),IFERROR(AND(VLOOKUP($E$3,Theme_Ranges[],2,0)<=BE12,VLOOKUP($E$3,Theme_Ranges[],3,0)>=BE12),FALSE)),BE12,"") | J12: =IF(OR(IFERROR(AND(VLOOKUP($E$2,Theme_Ranges[],2,0)<=BF12,VLOOKUP($E$2,Theme_Ranges[],3,0)>=BF12),FALSE),IFERROR(AND(VLOOKUP($E$3,Theme_Ranges[],2,0)<=BF12,VLOOKUP($E$3,Theme_Ranges[],3,0)>=BF12),FALSE)),BF12,"") | K12: =IF(OR(IFERROR(AND(VLOOKUP($E$2,Theme_Ranges[],2,0)<=BG12,VLOOKUP($E$2,Theme_Ranges[],3,0)>=BG12),FALSE),IFERROR(AND(VLOOKUP($E$3,Theme_Ranges[],2,0)<=BG12,VLOOKUP($E$3,Theme_Ranges[],3,0)>=BG12),FALSE)),BG12,"") | L12: =IF(OR(IFERROR(AND(VLOOKUP($E$2,Theme_Ranges[],2,0)<=BH12,VLOOKUP($E$2,Theme_Ranges[],3,0)>=BH12),FALSE),IFERROR(AND(VLOOKUP($E$3,Theme_Ranges[],2,0)<=BH12,VLOOKUP($E$3,Theme_Ranges[],3,0)>=BH12),FALSE)),BH12,"") | M12: =IF(OR(IFERROR(AND(VLOOKUP($E$2,Theme_Ranges[],2,0)<=BI12,VLOOKUP($E$2,Theme_Ranges[],3,0)>=BI12),FALSE),IFERROR(AND(VLOOKUP($E$3,Theme_Ranges[],2,0)<=BI12,VLOOKUP($E$3,Theme_Ranges[],3,0)>=BI12),FALSE)),BI12,"") | N12: =IF(OR(IFERROR(AND(VLOOKUP($E$2,Theme_Ranges[],2,0)<=BJ12,VLOOKUP($E$2,Theme_Ranges[],3,0)>=BJ12),FALSE),IFERROR(AND(VLOOKUP($E$3,Theme_Ranges[],2,0)<=BJ12,VLOOKUP($E$3,Theme_Ranges[],3,0)>=BJ12),FALSE)),BJ12,"") | ... AN12: =IF(OR(IFERROR(AND(VLOOKUP($E$2,Theme_Ranges[],2,0)<=CJ12,VLOOKUP($E$2,Theme_Ranges[],3,0)>=CJ12),FALSE),IFERROR(AND(VLOOKUP($E$3,Theme_Ranges[],2,0)<=CJ12,VLOOKUP($E$3,Theme_Ranges[],3,0)>=CJ12),FALSE)),CJ12,"") | AP12: =IF(D12="","",COUNTIF($G12:$O12,"<="&AV12)) | AQ12: =IF(D12="","",COUNTIF($P12:$W12,"<="&AV12)) | AR12: =IF(D12="","",COUNTIF($X12:$AF12,"<="&AV12)) | AS12: =IF(D12="","",COUNTIF($AG12:$AN12,"<="&AV12)) | AV12: =VLOOKUP($AV$8,Theme_Ranges[],3,0) -> 5 | AW12: =IF(D12="",0,1) -> 0 | AX12: =IF(COUNTIF($G12:$O12,"<="&AV12)>0,1,0) -> 0 | AY12: =IF(COUNTIF($P12:$W12,"<="&AV12)>0,1,0) -> 0 | AZ12: =IF(COUNTIF($X12:$AF12,"<="&AV12)>0,1,0) -> 0 | BA12: =IF(COUNTIF($AG12:$AN12,"<="&AV12)>0,1,0) -> 0 | BC12: =IF($D12="","",VLOOKUP($A12&G$6,Data_Table_1[[Full Name Theme Conc]:[Theme Ranking]],8,0)) | BD12: =IF($D12="","",VLOOKUP($A12&H$6,Data_Table_1[[Full Name Theme Conc]:[Theme Ranking]],8,0)) | BE12: =IF($D12="","",VLOOKUP($A12&I$6,Data_Table_1[[Full Name Theme Conc]:[Theme Ranking]],8,0)) | BF12: =IF($D12="","",VLOOKUP($A12&J$6,Data_Table_1[[Full Name Theme Conc]:[Theme Ranking]],8,0)) | BG12: =IF($D12="","",VLOOKUP($A12&K$6,Data_Table_1[[Full Name Theme Conc]:[Theme Ranking]],8,0)) | BH12: =IF($D12="","",VLOOKUP($A12&L$6,Data_Table_1[[Full Name Theme Conc]:[Theme Ranking]],8,0)) | BI12: =IF($D12="","",VLOOKUP($A12&M$6,Data_Table_1[[Full Name Theme Conc]:[Theme Ranking]],8,0)) | BJ12: =IF($D12="","",VLOOKUP($A12&N$6,Data_Table_1[[Full Name Theme Conc]:[Theme Ranking]],8,0)) | ... CJ12: =IF($D12="","",VLOOKUP($A12&AN$6,Data_Table_1[[Full Name Theme Conc]:[Theme Ranking]],8,0)) | CM12: =IF(AND(VLOOKUP($E$2,Theme_Ranges[],2,0)<=BC12,VLOOKUP($E$2,Theme_Ranges[],3,0)>=BC12),BC12,"") | CN12: =IF(AND(VLOOKUP($E$2,Theme_Ranges[],2,0)<=BD12,VLOOKUP($E$2,Theme_Ranges[],3,0)>=BD12),BD12,"") | CO12: =IF(AND(VLOOKUP($E$2,Theme_Ranges[],2,0)<=BE12,VLOOKUP($E$2,Theme_Ranges[],3,0)>=BE12),BE12,"") | CP12: =IF(AND(VLOOKUP($E$2,Theme_Ranges[],2,0)<=BF12,VLOOKUP($E$2,Theme_Ranges[],3,0)>=BF12),BF12,"") | CQ12: =IF(AND(VLOOKUP($E$2,Theme_Ranges[],2,0)<=BG12,VLOOKUP($E$2,Theme_Ranges[],3,0)>=BG12),BG12,"") | CR12: =IF(AND(VLOOKUP($E$2,Theme_Ranges[],2,0)<=BH12,VLOOKUP($E$2,Theme_Ranges[],3,0)>=BH12),BH12,"") | CS12: =IF(AND(VLOOKUP($E$2,Theme_Ranges[],2,0)<=BI12,VLOOKUP($E$2,Theme_Ranges[],3,0)>=BI12),BI12,"") | CT12: =IF(AND(VLOOKUP($E$2,Theme_Ranges[],2,0)<=BJ12,VLOOKUP($E$2,Theme_Ranges[],3,0)>=BJ12),BJ12,"") | ... DT12: =IF(AND(VLOOKUP($E$2,Theme_Ranges[],2,0)<=CJ12,VLOOKUP($E$2,Theme_Ranges[],3,0)>=CJ12),CJ12,"")
A13: =D13&" "&E13 | B13: =IF('Raw Data'!B8="","",'Raw Data'!B8) | C13: =IF('Raw Data'!C8="","",'Raw Data'!C8) | D13: =IF('Raw Data'!D8="","",'Raw Data'!D8) | E13: =IF('Raw Data'!E8="","",'Raw Data'!E8) | G13: =IF(OR(IFERROR(AND(VLOOKUP($E$2,Theme_Ranges[],2,0)<=BC13,VLOOKUP($E$2,Theme_Ranges[],3,0)>=BC13),FALSE),IFERROR(AND(VLOOKUP($E$3,Theme_Ranges[],2,0)<=BC13,VLOOKUP($E$3,Theme_Ranges[],3,0)>=BC13),FALSE)),BC13,"") | H13: =IF(OR(IFERROR(AND(VLOOKUP($E$2,Theme_Ranges[],2,0)<=BD13,VLOOKUP($E$2,Theme_Ranges[],3,0)>=BD13),FALSE),IFERROR(AND(VLOOKUP($E$3,Theme_Ranges[],2,0)<=BD13,VLOOKUP($E$3,Theme_Ranges[],3,0)>=BD13),FALSE)),BD13,"") | I13: =IF(OR(IFERROR(AND(VLOOKUP($E$2,Theme_Ranges[],2,0)<=BE13,VLOOKUP($E$2,Theme_Ranges[],3,0)>=BE13),FALSE),IFERROR(AND(VLOOKUP($E$3,Theme_Ranges[],2,0)<=BE13,VLOOKUP($E$3,Theme_Ranges[],3,0)>=BE13),FALSE)),BE13,"") | J13: =IF(OR(IFERROR(AND(VLOOKUP($E$2,Theme_Ranges[],2,0)<=BF13,VLOOKUP($E$2,Theme_Ranges[],3,0)>=BF13),FALSE),IFERROR(AND(VLOOKUP($E$3,Theme_Ranges[],2,0)<=BF13,VLOOKUP($E$3,Theme_Ranges[],3,0)>=BF13),FALSE)),BF13,"") | K13: =IF(OR(IFERROR(AND(VLOOKUP($E$2,Theme_Ranges[],2,0)<=BG13,VLOOKUP($E$2,Theme_Ranges[],3,0)>=BG13),FALSE),IFERROR(AND(VLOOKUP($E$3,Theme_Ranges[],2,0)<=BG13,VLOOKUP($E$3,Theme_Ranges[],3,0)>=BG13),FALSE)),BG13,"") | L13: =IF(OR(IFERROR(AND(VLOOKUP($E$2,Theme_Ranges[],2,0)<=BH13,VLOOKUP($E$2,Theme_Ranges[],3,0)>=BH13),FALSE),IFERROR(AND(VLOOKUP($E$3,Theme_Ranges[],2,0)<=BH13,VLOOKUP($E$3,Theme_Ranges[],3,0)>=BH13),FALSE)),BH13,"") | M13: =IF(OR(IFERROR(AND(VLOOKUP($E$2,Theme_Ranges[],2,0)<=BI13,VLOOKUP($E$2,Theme_Ranges[],3,0)>=BI13),FALSE),IFERROR(AND(VLOOKUP($E$3,Theme_Ranges[],2,0)<=BI13,VLOOKUP($E$3,Theme_Ranges[],3,0)>=BI13),FALSE)),BI13,"") | N13: =IF(OR(IFERROR(AND(VLOOKUP($E$2,Theme_Ranges[],2,0)<=BJ13,VLOOKUP($E$2,Theme_Ranges[],3,0)>=BJ13),FALSE),IFERROR(AND(VLOOKUP($E$3,Theme_Ranges[],2,0)<=BJ13,VLOOKUP($E$3,Theme_Ranges[],3,0)>=BJ13),FALSE)),BJ13,"") | ... AN13: =IF(OR(IFERROR(AND(VLOOKUP($E$2,Theme_Ranges[],2,0)<=CJ13,VLOOKUP($E$2,Theme_Ranges[],3,0)>=CJ13),FALSE),IFERROR(AND(VLOOKUP($E$3,Theme_Ranges[],2,0)<=CJ13,VLOOKUP($E$3,Theme_Ranges[],3,0)>=CJ13),FALSE)),CJ13,"") | AP13: =IF(D13="","",COUNTIF($G13:$O13,"<="&AV13)) | AQ13: =IF(D13="","",COUNTIF($P13:$W13,"<="&AV13)) | AR13: =IF(D13="","",COUNTIF($X13:$AF13,"<="&AV13)) | AS13: =IF(D13="","",COUNTIF($AG13:$AN13,"<="&AV13)) | AV13: =VLOOKUP($AV$8,Theme_Ranges[],3,0) -> 5 | AW13: =IF(D13="",0,1) -> 0 | AX13: =IF(COUNTIF($G13:$O13,"<="&AV13)>0,1,0) -> 0 | AY13: =IF(COUNTIF($P13:$W13,"<="&AV13)>0,1,0) -> 0 | AZ13: =IF(COUNTIF($X13:$AF13,"<="&AV13)>0,1,0) -> 0 | BA13: =IF(COUNTIF($AG13:$AN13,"<="&AV13)>0,1,0) -> 0 | BC13: =IF($D13="","",VLOOKUP($A13&G$6,Data_Table_1[[Full Name Theme Conc]:[Theme Ranking]],8,0)) | BD13: =IF($D13="","",VLOOKUP($A13&H$6,Data_Table_1[[Full Name Theme Conc]:[Theme Ranking]],8,0)) | BE13: =IF($D13="","",VLOOKUP($A13&I$6,Data_Table_1[[Full Name Theme Conc]:[Theme Ranking]],8,0)) | BF13: =IF($D13="","",VLOOKUP($A13&J$6,Data_Table_1[[Full Name Theme Conc]:[Theme Ranking]],8,0)) | BG13: =IF($D13="","",VLOOKUP($A13&K$6,Data_Table_1[[Full Name Theme Conc]:[Theme Ranking]],8,0)) | BH13: =IF($D13="","",VLOOKUP($A13&L$6,Data_Table_1[[Full Name Theme Conc]:[Theme Ranking]],8,0)) | BI13: =IF($D13="","",VLOOKUP($A13&M$6,Data_Table_1[[Full Name Theme Conc]:[Theme Ranking]],8,0)) | BJ13: =IF($D13="","",VLOOKUP($A13&N$6,Data_Table_1[[Full Name Theme Conc]:[Theme Ranking]],8,0)) | ... CJ13: =IF($D13="","",VLOOKUP($A13&AN$6,Data_Table_1[[Full Name Theme Conc]:[Theme Ranking]],8,0)) | CM13: =IF(AND(VLOOKUP($E$2,Theme_Ranges[],2,0)<=BC13,VLOOKUP($E$2,Theme_Ranges[],3,0)>=BC13),BC13,"") | CN13: =IF(AND(VLOOKUP($E$2,Theme_Ranges[],2,0)<=BD13,VLOOKUP($E$2,Theme_Ranges[],3,0)>=BD13),BD13,"") | CO13: =IF(AND(VLOOKUP($E$2,Theme_Ranges[],2,0)<=BE13,VLOOKUP($E$2,Theme_Ranges[],3,0)>=BE13),BE13,"") | CP13: =IF(AND(VLOOKUP($E$2,Theme_Ranges[],2,0)<=BF13,VLOOKUP($E$2,Theme_Ranges[],3,0)>=BF13),BF13,"") | CQ13: =IF(AND(VLOOKUP($E$2,Theme_Ranges[],2,0)<=BG13,VLOOKUP($E$2,Theme_Ranges[],3,0)>=BG13),BG13,"") | CR13: =IF(AND(VLOOKUP($E$2,Theme_Ranges[],2,0)<=BH13,VLOOKUP($E$2,Theme_Ranges[],3,0)>=BH13),BH13,"") | CS13: =IF(AND(VLOOKUP($E$2,Theme_Ranges[],2,0)<=BI13,VLOOKUP($E$2,Theme_Ranges[],3,0)>=BI13),BI13,"") | CT13: =IF(AND(VLOOKUP($E$2,Theme_Ranges[],2,0)<=BJ13,VLOOKUP($E$2,Theme_Ranges[],3,0)>=BJ13),BJ13,"") | ... DT13: =IF(AND(VLOOKUP($E$2,Theme_Ranges[],2,0)<=CJ13,VLOOKUP($E$2,Theme_Ranges[],3,0)>=CJ13),CJ13,"")
A14: =D14&" "&E14 | B14: =IF('Raw Data'!B9="","",'Raw Data'!B9) | C14: =IF('Raw Data'!C9="","",'Raw Data'!C9) | D14: =IF('Raw Data'!D9="","",'Raw Data'!D9) | E14: =IF('Raw Data'!E9="","",'Raw Data'!E9) | G14: =IF(OR(IFERROR(AND(VLOOKUP($E$2,Theme_Ranges[],2,0)<=BC14,VLOOKUP($E$2,Theme_Ranges[],3,0)>=BC14),FALSE),IFERROR(AND(VLOOKUP($E$3,Theme_Ranges[],2,0)<=BC14,VLOOKUP($E$3,Theme_Ranges[],3,0)>=BC14),FALSE)),BC14,"") | H14: =IF(OR(IFERROR(AND(VLOOKUP($E$2,Theme_Ranges[],2,0)<=BD14,VLOOKUP($E$2,Theme_Ranges[],3,0)>=BD14),FALSE),IFERROR(AND(VLOOKUP($E$3,Theme_Ranges[],2,0)<=BD14,VLOOKUP($E$3,Theme_Ranges[],3,0)>=BD14),FALSE)),BD14,"") | I14: =IF(OR(IFERROR(AND(VLOOKUP($E$2,Theme_Ranges[],2,0)<=BE14,VLOOKUP($E$2,Theme_Ranges[],3,0)>=BE14),FALSE),IFERROR(AND(VLOOKUP($E$3,Theme_Ranges[],2,0)<=BE14,VLOOKUP($E$3,Theme_Ranges[],3,0)>=BE14),FALSE)),BE14,"") | J14: =IF(OR(IFERROR(AND(VLOOKUP($E$2,Theme_Ranges[],2,0)<=BF14,VLOOKUP($E$2,Theme_Ranges[],3,0)>=BF14),FALSE),IFERROR(AND(VLOOKUP($E$3,Theme_Ranges[],2,0)<=BF14,VLOOKUP($E$3,Theme_Ranges[],3,0)>=BF14),FALSE)),BF14,"") | K14: =IF(OR(IFERROR(AND(VLOOKUP($E$2,Theme_Ranges[],2,0)<=BG14,VLOOKUP($E$2,Theme_Ranges[],3,0)>=BG14),FALSE),IFERROR(AND(VLOOKUP($E$3,Theme_Ranges[],2,0)<=BG14,VLOOKUP($E$3,Theme_Ranges[],3,0)>=BG14),FALSE)),BG14,"") | L14: =IF(OR(IFERROR(AND(VLOOKUP($E$2,Theme_Ranges[],2,0)<=BH14,VLOOKUP($E$2,Theme_Ranges[],3,0)>=BH14),FALSE),IFERROR(AND(VLOOKUP($E$3,Theme_Ranges[],2,0)<=BH14,VLOOKUP($E$3,Theme_Ranges[],3,0)>=BH14),FALSE)),BH14,"") | M14: =IF(OR(IFERROR(AND(VLOOKUP($E$2,Theme_Ranges[],2,0)<=BI14,VLOOKUP($E$2,Theme_Ranges[],3,0)>=BI14),FALSE),IFERROR(AND(VLOOKUP($E$3,Theme_Ranges[],2,0)<=BI14,VLOOKUP($E$3,Theme_Ranges[],3,0)>=BI14),FALSE)),BI14,"") | N14: =IF(OR(IFERROR(AND(VLOOKUP($E$2,Theme_Ranges[],2,0)<=BJ14,VLOOKUP($E$2,Theme_Ranges[],3,0)>=BJ14),FALSE),IFERROR(AND(VLOOKUP($E$3,Theme_Ranges[],2,0)<=BJ14,VLOOKUP($E$3,Theme_Ranges[],3,0)>=BJ14),FALSE)),BJ14,"") | ... AN14: =IF(OR(IFERROR(AND(VLOOKUP($E$2,Theme_Ranges[],2,0)<=CJ14,VLOOKUP($E$2,Theme_Ranges[],3,0)>=CJ14),FALSE),IFERROR(AND(VLOOKUP($E$3,Theme_Ranges[],2,0)<=CJ14,VLOOKUP($E$3,Theme_Ranges[],3,0)>=CJ14),FALSE)),CJ14,"") | AP14: =IF(D14="","",COUNTIF($G14:$O14,"<="&AV14)) | AQ14: =IF(D14="","",COUNTIF($P14:$W14,"<="&AV14)) | AR14: =IF(D14="","",COUNTIF($X14:$AF14,"<="&AV14)) | AS14: =IF(D14="","",COUNTIF($AG14:$AN14,"<="&AV14)) | AV14: =VLOOKUP($AV$8,Theme_Ranges[],3,0) -> 5 | AW14: =IF(D14="",0,1) -> 0 | AX14: =IF(COUNTIF($G14:$O14,"<="&AV14)>0,1,0) -> 0 | AY14: =IF(COUNTIF($P14:$W14,"<="&AV14)>0,1,0) -> 0 | AZ14: =IF(COUNTIF($X14:$AF14,"<="&AV14)>0,1,0) -> 0 | BA14: =IF(COUNTIF($AG14:$AN14,"<="&AV14)>0,1,0) -> 0 | BC14: =IF($D14="","",VLOOKUP($A14&G$6,Data_Table_1[[Full Name Theme Conc]:[Theme Ranking]],8,0)) | BD14: =IF($D14="","",VLOOKUP($A14&H$6,Data_Table_1[[Full Name Theme Conc]:[Theme Ranking]],8,0)) | BE14: =IF($D14="","",VLOOKUP($A14&I$6,Data_Table_1[[Full Name Theme Conc]:[Theme Ranking]],8,0)) | BF14: =IF($D14="","",VLOOKUP($A14&J$6,Data_Table_1[[Full Name Theme Conc]:[Theme Ranking]],8,0)) | BG14: =IF($D14="","",VLOOKUP($A14&K$6,Data_Table_1[[Full Name Theme Conc]:[Theme Ranking]],8,0)) | BH14: =IF($D14="","",VLOOKUP($A14&L$6,Data_Table_1[[Full Name Theme Conc]:[Theme Ranking]],8,0)) | BI14: =IF($D14="","",VLOOKUP($A14&M$6,Data_Table_1[[Full Name Theme Conc]:[Theme Ranking]],8,0)) | BJ14: =IF($D14="","",VLOOKUP($A14&N$6,Data_Table_1[[Full Name Theme Conc]:[Theme Ranking]],8,0)) | ... CJ14: =IF($D14="","",VLOOKUP($A14&AN$6,Data_Table_1[[Full Name Theme Conc]:[Theme Ranking]],8,0)) | CM14: =IF(AND(VLOOKUP($E$2,Theme_Ranges[],2,0)<=BC14,VLOOKUP($E$2,Theme_Ranges[],3,0)>=BC14),BC14,"") | CN14: =IF(AND(VLOOKUP($E$2,Theme_Ranges[],2,0)<=BD14,VLOOKUP($E$2,Theme_Ranges[],3,0)>=BD14),BD14,"") | CO14: =IF(AND(VLOOKUP($E$2,Theme_Ranges[],2,0)<=BE14,VLOOKUP($E$2,Theme_Ranges[],3,0)>=BE14),BE14,"") | CP14: =IF(AND(VLOOKUP($E$2,Theme_Ranges[],2,0)<=BF14,VLOOKUP($E$2,Theme_Ranges[],3,0)>=BF14),BF14,"") | CQ14: =IF(AND(VLOOKUP($E$2,Theme_Ranges[],2,0)<=BG14,VLOOKUP($E$2,Theme_Ranges[],3,0)>=BG14),BG14,"") | CR14: =IF(AND(VLOOKUP($E$2,Theme_Ranges[],2,0)<=BH14,VLOOKUP($E$2,Theme_Ranges[],3,0)>=BH14),BH14,"") | CS14: =IF(AND(VLOOKUP($E$2,Theme_Ranges[],2,0)<=BI14,VLOOKUP($E$2,Theme_Ranges[],3,0)>=BI14),BI14,"") | CT14: =IF(AND(VLOOKUP($E$2,Theme_Ranges[],2,0)<=BJ14,VLOOKUP($E$2,Theme_Ranges[],3,0)>=BJ14),BJ14,"") | ... DT14: =IF(AND(VLOOKUP($E$2,Theme_Ranges[],2,0)<=CJ14,VLOOKUP($E$2,Theme_Ranges[],3,0)>=CJ14),CJ14,"")
A15: =D15&" "&E15 | B15: =IF('Raw Data'!B10="","",'Raw Data'!B10) | C15: =IF('Raw Data'!C10="","",'Raw Data'!C10) | D15: =IF('Raw Data'!D10="","",'Raw Data'!D10) | E15: =IF('Raw Data'!E10="","",'Raw Data'!E10) | G15: =IF(OR(IFERROR(AND(VLOOKUP($E$2,Theme_Ranges[],2,0)<=BC15,VLOOKUP($E$2,Theme_Ranges[],3,0)>=BC15),FALSE),IFERROR(AND(VLOOKUP($E$3,Theme_Ranges[],2,0)<=BC15,VLOOKUP($E$3,Theme_Ranges[],3,0)>=BC15),FALSE)),BC15,"") | H15: =IF(OR(IFERROR(AND(VLOOKUP($E$2,Theme_Ranges[],2,0)<=BD15,VLOOKUP($E$2,Theme_Ranges[],3,0)>=BD15),FALSE),IFERROR(AND(VLOOKUP($E$3,Theme_Ranges[],2,0)<=BD15,VLOOKUP($E$3,Theme_Ranges[],3,0)>=BD15),FALSE)),BD15,"") | I15: =IF(OR(IFERROR(AND(VLOOKUP($E$2,Theme_Ranges[],2,0)<=BE15,VLOOKUP($E$2,Theme_Ranges[],3,0)>=BE15),FALSE),IFERROR(AND(VLOOKUP($E$3,Theme_Ranges[],2,0)<=BE15,VLOOKUP($E$3,Theme_Ranges[],3,0)>=BE15),FALSE)),BE15,"") | J15: =IF(OR(IFERROR(AND(VLOOKUP($E$2,Theme_Ranges[],2,0)<=BF15,VLOOKUP($E$2,Theme_Ranges[],3,0)>=BF15),FALSE),IFERROR(AND(VLOOKUP($E$3,Theme_Ranges[],2,0)<=BF15,VLOOKUP($E$3,Theme_Ranges[],3,0)>=BF15),FALSE)),BF15,"") | K15: =IF(OR(IFERROR(AND(VLOOKUP($E$2,Theme_Ranges[],2,0)<=BG15,VLOOKUP($E$2,Theme_Ranges[],3,0)>=BG15),FALSE),IFERROR(AND(VLOOKUP($E$3,Theme_Ranges[],2,0)<=BG15,VLOOKUP($E$3,Theme_Ranges[],3,0)>=BG15),FALSE)),BG15,"") | L15: =IF(OR(IFERROR(AND(VLOOKUP($E$2,Theme_Ranges[],2,0)<=BH15,VLOOKUP($E$2,Theme_Ranges[],3,0)>=BH15),FALSE),IFERROR(AND(VLOOKUP($E$3,Theme_Ranges[],2,0)<=BH15,VLOOKUP($E$3,Theme_Ranges[],3,0)>=BH15),FALSE)),BH15,"") | M15: =IF(OR(IFERROR(AND(VLOOKUP($E$2,Theme_Ranges[],2,0)<=BI15,VLOOKUP($E$2,Theme_Ranges[],3,0)>=BI15),FALSE),IFERROR(AND(VLOOKUP($E$3,Theme_Ranges[],2,0)<=BI15,VLOOKUP($E$3,Theme_Ranges[],3,0)>=BI15),FALSE)),BI15,"") | N15: =IF(OR(IFERROR(AND(VLOOKUP($E$2,Theme_Ranges[],2,0)<=BJ15,VLOOKUP($E$2,Theme_Ranges[],3,0)>=BJ15),FALSE),IFERROR(AND(VLOOKUP($E$3,Theme_Ranges[],2,0)<=BJ15,VLOOKUP($E$3,Theme_Ranges[],3,0)>=BJ15),FALSE)),BJ15,"") | ... AN15: =IF(OR(IFERROR(AND(VLOOKUP($E$2,Theme_Ranges[],2,0)<=CJ15,VLOOKUP($E$2,Theme_Ranges[],3,0)>=CJ15),FALSE),IFERROR(AND(VLOOKUP($E$3,Theme_Ranges[],2,0)<=CJ15,VLOOKUP($E$3,Theme_Ranges[],3,0)>=CJ15),FALSE)),CJ15,"") | AP15: =IF(D15="","",COUNTIF($G15:$O15,"<="&AV15)) | AQ15: =IF(D15="","",COUNTIF($P15:$W15,"<="&AV15)) | AR15: =IF(D15="","",COUNTIF($X15:$AF15,"<="&AV15)) | AS15: =IF(D15="","",COUNTIF($AG15:$AN15,"<="&AV15)) | AV15: =VLOOKUP($AV$8,Theme_Ranges[],3,0) -> 5 | AW15: =IF(D15="",0,1) -> 0 | AX15: =IF(COUNTIF($G15:$O15,"<="&AV15)>0,1,0) -> 0 | AY15: =IF(COUNTIF($P15:$W15,"<="&AV15)>0,1,0) -> 0 | AZ15: =IF(COUNTIF($X15:$AF15,"<="&AV15)>0,1,0) -> 0 | BA15: =IF(COUNTIF($AG15:$AN15,"<="&AV15)>0,1,0) -> 0 | BC15: =IF($D15="","",VLOOKUP($A15&G$6,Data_Table_1[[Full Name Theme Conc]:[Theme Ranking]],8,0)) | BD15: =IF($D15="","",VLOOKUP($A15&H$6,Data_Table_1[[Full Name Theme Conc]:[Theme Ranking]],8,0)) | BE15: =IF($D15="","",VLOOKUP($A15&I$6,Data_Table_1[[Full Name Theme Conc]:[Theme Ranking]],8,0)) | BF15: =IF($D15="","",VLOOKUP($A15&J$6,Data_Table_1[[Full Name Theme Conc]:[Theme Ranking]],8,0)) | BG15: =IF($D15="","",VLOOKUP($A15&K$6,Data_Table_1[[Full Name Theme Conc]:[Theme Ranking]],8,0)) | BH15: =IF($D15="","",VLOOKUP($A15&L$6,Data_Table_1[[Full Name Theme Conc]:[Theme Ranking]],8,0)) | BI15: =IF($D15="","",VLOOKUP($A15&M$6,Data_Table_1[[Full Name Theme Conc]:[Theme Ranking]],8,0)) | BJ15: =IF($D15="","",VLOOKUP($A15&N$6,Data_Table_1[[Full Name Theme Conc]:[Theme Ranking]],8,0)) | ... CJ15: =IF($D15="","",VLOOKUP($A15&AN$6,Data_Table_1[[Full Name Theme Conc]:[Theme Ranking]],8,0)) | CM15: =IF(AND(VLOOKUP($E$2,Theme_Ranges[],2,0)<=BC15,VLOOKUP($E$2,Theme_Ranges[],3,0)>=BC15),BC15,"") | CN15: =IF(AND(VLOOKUP($E$2,Theme_Ranges[],2,0)<=BD15,VLOOKUP($E$2,Theme_Ranges[],3,0)>=BD15),BD15,"") | CO15: =IF(AND(VLOOKUP($E$2,Theme_Ranges[],2,0)<=BE15,VLOOKUP($E$2,Theme_Ranges[],3,0)>=BE15),BE15,"") | CP15: =IF(AND(VLOOKUP($E$2,Theme_Ranges[],2,0)<=BF15,VLOOKUP($E$2,Theme_Ranges[],3,0)>=BF15),BF15,"") | CQ15: =IF(AND(VLOOKUP($E$2,Theme_Ranges[],2,0)<=BG15,VLOOKUP($E$2,Theme_Ranges[],3,0)>=BG15),BG15,"") | CR15: =IF(AND(VLOOKUP($E$2,Theme_Ranges[],2,0)<=BH15,VLOOKUP($E$2,Theme_Ranges[],3,0)>=BH15),BH15,"") | CS15: =IF(AND(VLOOKUP($E$2,Theme_Ranges[],2,0)<=BI15,VLOOKUP($E$2,Theme_Ranges[],3,0)>=BI15),BI15,"") | CT15: =IF(AND(VLOOKUP($E$2,Theme_Ranges[],2,0)<=BJ15,VLOOKUP($E$2,Theme_Ranges[],3,0)>=BJ15),BJ15,"") | ... DT15: =IF(AND(VLOOKUP($E$2,Theme_Ranges[],2,0)<=CJ15,VLOOKUP($E$2,Theme_Ranges[],3,0)>=CJ15),CJ15,"")
A16: =D16&" "&E16 | B16: =IF('Raw Data'!B11="","",'Raw Data'!B11) | C16: =IF('Raw Data'!C11="","",'Raw Data'!C11) | D16: =IF('Raw Data'!D11="","",'Raw Data'!D11) | E16: =IF('Raw Data'!E11="","",'Raw Data'!E11) | G16: =IF(OR(IFERROR(AND(VLOOKUP($E$2,Theme_Ranges[],2,0)<=BC16,VLOOKUP($E$2,Theme_Ranges[],3,0)>=BC16),FALSE),IFERROR(AND(VLOOKUP($E$3,Theme_Ranges[],2,0)<=BC16,VLOOKUP($E$3,Theme_Ranges[],3,0)>=BC16),FALSE)),BC16,"") | H16: =IF(OR(IFERROR(AND(VLOOKUP($E$2,Theme_Ranges[],2,0)<=BD16,VLOOKUP($E$2,Theme_Ranges[],3,0)>=BD16),FALSE),IFERROR(AND(VLOOKUP($E$3,Theme_Ranges[],2,0)<=BD16,VLOOKUP($E$3,Theme_Ranges[],3,0)>=BD16),FALSE)),BD16,"") | I16: =IF(OR(IFERROR(AND(VLOOKUP($E$2,Theme_Ranges[],2,0)<=BE16,VLOOKUP($E$2,Theme_Ranges[],3,0)>=BE16),FALSE),IFERROR(AND(VLOOKUP($E$3,Theme_Ranges[],2,0)<=BE16,VLOOKUP($E$3,Theme_Ranges[],3,0)>=BE16),FALSE)),BE16,"") | J16: =IF(OR(IFERROR(AND(VLOOKUP($E$2,Theme_Ranges[],2,0)<=BF16,VLOOKUP($E$2,Theme_Ranges[],3,0)>=BF16),FALSE),IFERROR(AND(VLOOKUP($E$3,Theme_Ranges[],2,0)<=BF16,VLOOKUP($E$3,Theme_Ranges[],3,0)>=BF16),FALSE)),BF16,"") | K16: =IF(OR(IFERROR(AND(VLOOKUP($E$2,Theme_Ranges[],2,0)<=BG16,VLOOKUP($E$2,Theme_Ranges[],3,0)>=BG16),FALSE),IFERROR(AND(VLOOKUP($E$3,Theme_Ranges[],2,0)<=BG16,VLOOKUP($E$3,Theme_Ranges[],3,0)>=BG16),FALSE)),BG16,"") | L16: =IF(OR(IFERROR(AND(VLOOKUP($E$2,Theme_Ranges[],2,0)<=BH16,VLOOKUP($E$2,Theme_Ranges[],3,0)>=BH16),FALSE),IFERROR(AND(VLOOKUP($E$3,Theme_Ranges[],2,0)<=BH16,VLOOKUP($E$3,Theme_Ranges[],3,0)>=BH16),FALSE)),BH16,"") | M16: =IF(OR(IFERROR(AND(VLOOKUP($E$2,Theme_Ranges[],2,0)<=BI16,VLOOKUP($E$2,Theme_Ranges[],3,0)>=BI16),FALSE),IFERROR(AND(VLOOKUP($E$3,Theme_Ranges[],2,0)<=BI16,VLOOKUP($E$3,Theme_Ranges[],3,0)>=BI16),FALSE)),BI16,"") | N16: =IF(OR(IFERROR(AND(VLOOKUP($E$2,Theme_Ranges[],2,0)<=BJ16,VLOOKUP($E$2,Theme_Ranges[],3,0)>=BJ16),FALSE),IFERROR(AND(VLOOKUP($E$3,Theme_Ranges[],2,0)<=BJ16,VLOOKUP($E$3,Theme_Ranges[],3,0)>=BJ16),FALSE)),BJ16,"") | ... AN16: =IF(OR(IFERROR(AND(VLOOKUP($E$2,Theme_Ranges[],2,0)<=CJ16,VLOOKUP($E$2,Theme_Ranges[],3,0)>=CJ16),FALSE),IFERROR(AND(VLOOKUP($E$3,Theme_Ranges[],2,0)<=CJ16,VLOOKUP($E$3,Theme_Ranges[],3,0)>=CJ16),FALSE)),CJ16,"") | AP16: =IF(D16="","",COUNTIF($G16:$O16,"<="&AV16)) | AQ16: =IF(D16="","",COUNTIF($P16:$W16,"<="&AV16)) | AR16: =IF(D16="","",COUNTIF($X16:$AF16,"<="&AV16)) | AS16: =IF(D16="","",COUNTIF($AG16:$AN16,"<="&AV16)) | AV16: =VLOOKUP($AV$8,Theme_Ranges[],3,0) -> 5 | AW16: =IF(D16="",0,1) -> 0 | AX16: =IF(COUNTIF($G16:$O16,"<="&AV16)>0,1,0) -> 0 | AY16: =IF(COUNTIF($P16:$W16,"<="&AV16)>0,1,0) -> 0 | AZ16: =IF(COUNTIF($X16:$AF16,"<="&AV16)>0,1,0) -> 0 | BA16: =IF(COUNTIF($AG16:$AN16,"<="&AV16)>0,1,0) -> 0 | BC16: =IF($D16="","",VLOOKUP($A16&G$6,Data_Table_1[[Full Name Theme Conc]:[Theme Ranking]],8,0)) | BD16: =IF($D16="","",VLOOKUP($A16&H$6,Data_Table_1[[Full Name Theme Conc]:[Theme Ranking]],8,0)) | BE16: =IF($D16="","",VLOOKUP($A16&I$6,Data_Table_1[[Full Name Theme Conc]:[Theme Ranking]],8,0)) | BF16: =IF($D16="","",VLOOKUP($A16&J$6,Data_Table_1[[Full Name Theme Conc]:[Theme Ranking]],8,0)) | BG16: =IF($D16="","",VLOOKUP($A16&K$6,Data_Table_1[[Full Name Theme Conc]:[Theme Ranking]],8,0)) | BH16: =IF($D16="","",VLOOKUP($A16&L$6,Data_Table_1[[Full Name Theme Conc]:[Theme Ranking]],8,0)) | BI16: =IF($D16="","",VLOOKUP($A16&M$6,Data_Table_1[[Full Name Theme Conc]:[Theme Ranking]],8,0)) | BJ16: =IF($D16="","",VLOOKUP($A16&N$6,Data_Table_1[[Full Name Theme Conc]:[Theme Ranking]],8,0)) | ... CJ16: =IF($D16="","",VLOOKUP($A16&AN$6,Data_Table_1[[Full Name Theme Conc]:[Theme Ranking]],8,0)) | CM16: =IF(AND(VLOOKUP($E$2,Theme_Ranges[],2,0)<=BC16,VLOOKUP($E$2,Theme_Ranges[],3,0)>=BC16),BC16,"") | CN16: =IF(AND(VLOOKUP($E$2,Theme_Ranges[],2,0)<=BD16,VLOOKUP($E$2,Theme_Ranges[],3,0)>=BD16),BD16,"") | CO16: =IF(AND(VLOOKUP($E$2,Theme_Ranges[],2,0)<=BE16,VLOOKUP($E$2,Theme_Ranges[],3,0)>=BE16),BE16,"") | CP16: =IF(AND(VLOOKUP($E$2,Theme_Ranges[],2,0)<=BF16,VLOOKUP($E$2,Theme_Ranges[],3,0)>=BF16),BF16,"") | CQ16: =IF(AND(VLOOKUP($E$2,Theme_Ranges[],2,0)<=BG16,VLOOKUP($E$2,Theme_Ranges[],3,0)>=BG16),BG16,"") | CR16: =IF(AND(VLOOKUP($E$2,Theme_Ranges[],2,0)<=BH16,VLOOKUP($E$2,Theme_Ranges[],3,0)>=BH16),BH16,"") | CS16: =IF(AND(VLOOKUP($E$2,Theme_Ranges[],2,0)<=BI16,VLOOKUP($E$2,Theme_Ranges[],3,0)>=BI16),BI16,"") | CT16: =IF(AND(VLOOKUP($E$2,Theme_Ranges[],2,0)<=BJ16,VLOOKUP($E$2,Theme_Ranges[],3,0)>=BJ16),BJ16,"") | ... DT16: =IF(AND(VLOOKUP($E$2,Theme_Ranges[],2,0)<=CJ16,VLOOKUP($E$2,Theme_Ranges[],3,0)>=CJ16),CJ16,"")
A17: =D17&" "&E17 | B17: =IF('Raw Data'!B12="","",'Raw Data'!B12) | C17: =IF('Raw Data'!C12="","",'Raw Data'!C12) | D17: =IF('Raw Data'!D12="","",'Raw Data'!D12) | E17: =IF('Raw Data'!E12="","",'Raw Data'!E12) | G17: =IF(OR(IFERROR(AND(VLOOKUP($E$2,Theme_Ranges[],2,0)<=BC17,VLOOKUP($E$2,Theme_Ranges[],3,0)>=BC17),FALSE),IFERROR(AND(VLOOKUP($E$3,Theme_Ranges[],2,0)<=BC17,VLOOKUP($E$3,Theme_Ranges[],3,0)>=BC17),FALSE)),BC17,"") | H17: =IF(OR(IFERROR(AND(VLOOKUP($E$2,Theme_Ranges[],2,0)<=BD17,VLOOKUP($E$2,Theme_Ranges[],3,0)>=BD17),FALSE),IFERROR(AND(VLOOKUP($E$3,Theme_Ranges[],2,0)<=BD17,VLOOKUP($E$3,Theme_Ranges[],3,0)>=BD17),FALSE)),BD17,"") | I17: =IF(OR(IFERROR(AND(VLOOKUP($E$2,Theme_Ranges[],2,0)<=BE17,VLOOKUP($E$2,Theme_Ranges[],3,0)>=BE17),FALSE),IFERROR(AND(VLOOKUP($E$3,Theme_Ranges[],2,0)<=BE17,VLOOKUP($E$3,Theme_Ranges[],3,0)>=BE17),FALSE)),BE17,"") | J17: =IF(OR(IFERROR(AND(VLOOKUP($E$2,Theme_Ranges[],2,0)<=BF17,VLOOKUP($E$2,Theme_Ranges[],3,0)>=BF17),FALSE),IFERROR(AND(VLOOKUP($E$3,Theme_Ranges[],2,0)<=BF17,VLOOKUP($E$3,Theme_Ranges[],3,0)>=BF17),FALSE)),BF17,"") | K17: =IF(OR(IFERROR(AND(VLOOKUP($E$2,Theme_Ranges[],2,0)<=BG17,VLOOKUP($E$2,Theme_Ranges[],3,0)>=BG17),FALSE),IFERROR(AND(VLOOKUP($E$3,Theme_Ranges[],2,0)<=BG17,VLOOKUP($E$3,Theme_Ranges[],3,0)>=BG17),FALSE)),BG17,"") | L17: =IF(OR(IFERROR(AND(VLOOKUP($E$2,Theme_Ranges[],2,0)<=BH17,VLOOKUP($E$2,Theme_Ranges[],3,0)>=BH17),FALSE),IFERROR(AND(VLOOKUP($E$3,Theme_Ranges[],2,0)<=BH17,VLOOKUP($E$3,Theme_Ranges[],3,0)>=BH17),FALSE)),BH17,"") | M17: =IF(OR(IFERROR(AND(VLOOKUP($E$2,Theme_Ranges[],2,0)<=BI17,VLOOKUP($E$2,Theme_Ranges[],3,0)>=BI17),FALSE),IFERROR(AND(VLOOKUP($E$3,Theme_Ranges[],2,0)<=BI17,VLOOKUP($E$3,Theme_Ranges[],3,0)>=BI17),FALSE)),BI17,"") | N17: =IF(OR(IFERROR(AND(VLOOKUP($E$2,Theme_Ranges[],2,0)<=BJ17,VLOOKUP($E$2,Theme_Ranges[],3,0)>=BJ17),FALSE),IFERROR(AND(VLOOKUP($E$3,Theme_Ranges[],2,0)<=BJ17,VLOOKUP($E$3,Theme_Ranges[],3,0)>=BJ17),FALSE)),BJ17,"") | ... AN17: =IF(OR(IFERROR(AND(VLOOKUP($E$2,Theme_Ranges[],2,0)<=CJ17,VLOOKUP($E$2,Theme_Ranges[],3,0)>=CJ17),FALSE),IFERROR(AND(VLOOKUP($E$3,Theme_Ranges[],2,0)<=CJ17,VLOOKUP($E$3,Theme_Ranges[],3,0)>=CJ17),FALSE)),CJ17,"") | AP17: =IF(D17="","",COUNTIF($G17:$O17,"<="&AV17)) | AQ17: =IF(D17="","",COUNTIF($P17:$W17,"<="&AV17)) | AR17: =IF(D17="","",COUNTIF($X17:$AF17,"<="&AV17)) | AS17: =IF(D17="","",COUNTIF($AG17:$AN17,"<="&AV17)) | AV17: =VLOOKUP($AV$8,Theme_Ranges[],3,0) -> 5 | AW17: =IF(D17="",0,1) -> 0 | AX17: =IF(COUNTIF($G17:$O17,"<="&AV17)>0,1,0) -> 0 | AY17: =IF(COUNTIF($P17:$W17,"<="&AV17)>0,1,0) -> 0 | AZ17: =IF(COUNTIF($X17:$AF17,"<="&AV17)>0,1,0) -> 0 | BA17: =IF(COUNTIF($AG17:$AN17,"<="&AV17)>0,1,0) -> 0 | BC17: =IF($D17="","",VLOOKUP($A17&G$6,Data_Table_1[[Full Name Theme Conc]:[Theme Ranking]],8,0)) | BD17: =IF($D17="","",VLOOKUP($A17&H$6,Data_Table_1[[Full Name Theme Conc]:[Theme Ranking]],8,0)) | BE17: =IF($D17="","",VLOOKUP($A17&I$6,Data_Table_1[[Full Name Theme Conc]:[Theme Ranking]],8,0)) | BF17: =IF($D17="","",VLOOKUP($A17&J$6,Data_Table_1[[Full Name Theme Conc]:[Theme Ranking]],8,0)) | BG17: =IF($D17="","",VLOOKUP($A17&K$6,Data_Table_1[[Full Name Theme Conc]:[Theme Ranking]],8,0)) | BH17: =IF($D17="","",VLOOKUP($A17&L$6,Data_Table_1[[Full Name Theme Conc]:[Theme Ranking]],8,0)) | BI17: =IF($D17="","",VLOOKUP($A17&M$6,Data_Table_1[[Full Name Theme Conc]:[Theme Ranking]],8,0)) | BJ17: =IF($D17="","",VLOOKUP($A17&N$6,Data_Table_1[[Full Name Theme Conc]:[Theme Ranking]],8,0)) | ... CJ17: =IF($D17="","",VLOOKUP($A17&AN$6,Data_Table_1[[Full Name Theme Conc]:[Theme Ranking]],8,0)) | CM17: =IF(AND(VLOOKUP($E$2,Theme_Ranges[],2,0)<=BC17,VLOOKUP($E$2,Theme_Ranges[],3,0)>=BC17),BC17,"") | CN17: =IF(AND(VLOOKUP($E$2,Theme_Ranges[],2,0)<=BD17,VLOOKUP($E$2,Theme_Ranges[],3,0)>=BD17),BD17,"") | CO17: =IF(AND(VLOOKUP($E$2,Theme_Ranges[],2,0)<=BE17,VLOOKUP($E$2,Theme_Ranges[],3,0)>=BE17),BE17,"") | CP17: =IF(AND(VLOOKUP($E$2,Theme_Ranges[],2,0)<=BF17,VLOOKUP($E$2,Theme_Ranges[],3,0)>=BF17),BF17,"") | CQ17: =IF(AND(VLOOKUP($E$2,Theme_Ranges[],2,0)<=BG17,VLOOKUP($E$2,Theme_Ranges[],3,0)>=BG17),BG17,"") | CR17: =IF(AND(VLOOKUP($E$2,Theme_Ranges[],2,0)<=BH17,VLOOKUP($E$2,Theme_Ranges[],3,0)>=BH17),BH17,"") | CS17: =IF(AND(VLOOKUP($E$2,Theme_Ranges[],2,0)<=BI17,VLOOKUP($E$2,Theme_Ranges[],3,0)>=BI17),BI17,"") | CT17: =IF(AND(VLOOKUP($E$2,Theme_Ranges[],2,0)<=BJ17,VLOOKUP($E$2,Theme_Ranges[],3,0)>=BJ17),BJ17,"") | ... DT17: =IF(AND(VLOOKUP($E$2,Theme_Ranges[],2,0)<=CJ17,VLOOKUP($E$2,Theme_Ranges[],3,0)>=CJ17),CJ17,"")
A18: =D18&" "&E18 | B18: =IF('Raw Data'!B13="","",'Raw Data'!B13) | C18: =IF('Raw Data'!C13="","",'Raw Data'!C13) | D18: =IF('Raw Data'!D13="","",'Raw Data'!D13) | E18: =IF('Raw Data'!E13="","",'Raw Data'!E13) | G18: =IF(OR(IFERROR(AND(VLOOKUP($E$2,Theme_Ranges[],2,0)<=BC18,VLOOKUP($E$2,Theme_Ranges[],3,0)>=BC18),FALSE),IFERROR(AND(VLOOKUP($E$3,Theme_Ranges[],2,0)<=BC18,VLOOKUP($E$3,Theme_Ranges[],3,0)>=BC18),FALSE)),BC18,"") | H18: =IF(OR(IFERROR(AND(VLOOKUP($E$2,Theme_Ranges[],2,0)<=BD18,VLOOKUP($E$2,Theme_Ranges[],3,0)>=BD18),FALSE),IFERROR(AND(VLOOKUP($E$3,Theme_Ranges[],2,0)<=BD18,VLOOKUP($E$3,Theme_Ranges[],3,0)>=BD18),FALSE)),BD18,"") | I18: =IF(OR(IFERROR(AND(VLOOKUP($E$2,Theme_Ranges[],2,0)<=BE18,VLOOKUP($E$2,Theme_Ranges[],3,0)>=BE18),FALSE),IFERROR(AND(VLOOKUP($E$3,Theme_Ranges[],2,0)<=BE18,VLOOKUP($E$3,Theme_Ranges[],3,0)>=BE18),FALSE)),BE18,"") | J18: =IF(OR(IFERROR(AND(VLOOKUP($E$2,Theme_Ranges[],2,0)<=BF18,VLOOKUP($E$2,Theme_Ranges[],3,0)>=BF18),FALSE),IFERROR(AND(VLOOKUP($E$3,Theme_Ranges[],2,0)<=BF18,VLOOKUP($E$3,Theme_Ranges[],3,0)>=BF18),FALSE)),BF18,"") | K18: =IF(OR(IFERROR(AND(VLOOKUP($E$2,Theme_Ranges[],2,0)<=BG18,VLOOKUP($E$2,Theme_Ranges[],3,0)>=BG18),FALSE),IFERROR(AND(VLOOKUP($E$3,Theme_Ranges[],2,0)<=BG18,VLOOKUP($E$3,Theme_Ranges[],3,0)>=BG18),FALSE)),BG18,"") | L18: =IF(OR(IFERROR(AND(VLOOKUP($E$2,Theme_Ranges[],2,0)<=BH18,VLOOKUP($E$2,Theme_Ranges[],3,0)>=BH18),FALSE),IFERROR(AND(VLOOKUP($E$3,Theme_Ranges[],2,0)<=BH18,VLOOKUP($E$3,Theme_Ranges[],3,0)>=BH18),FALSE)),BH18,"") | M18: =IF(OR(IFERROR(AND(VLOOKUP($E$2,Theme_Ranges[],2,0)<=BI18,VLOOKUP($E$2,Theme_Ranges[],3,0)>=BI18),FALSE),IFERROR(AND(VLOOKUP($E$3,Theme_Ranges[],2,0)<=BI18,VLOOKUP($E$3,Theme_Ranges[],3,0)>=BI18),FALSE)),BI18,"") | N18: =IF(OR(IFERROR(AND(VLOOKUP($E$2,Theme_Ranges[],2,0)<=BJ18,VLOOKUP($E$2,Theme_Ranges[],3,0)>=BJ18),FALSE),IFERROR(AND(VLOOKUP($E$3,Theme_Ranges[],2,0)<=BJ18,VLOOKUP($E$3,Theme_Ranges[],3,0)>=BJ18),FALSE)),BJ18,"") | ... AN18: =IF(OR(IFERROR(AND(VLOOKUP($E$2,Theme_Ranges[],2,0)<=CJ18,VLOOKUP($E$2,Theme_Ranges[],3,0)>=CJ18),FALSE),IFERROR(AND(VLOOKUP($E$3,Theme_Ranges[],2,0)<=CJ18,VLOOKUP($E$3,Theme_Ranges[],3,0)>=CJ18),FALSE)),CJ18,"") | AP18: =IF(D18="","",COUNTIF($G18:$O18,"<="&AV18)) | AQ18: =IF(D18="","",COUNTIF($P18:$W18,"<="&AV18)) | AR18: =IF(D18="","",COUNTIF($X18:$AF18,"<="&AV18)) | AS18: =IF(D18="","",COUNTIF($AG18:$AN18,"<="&AV18)) | AV18: =VLOOKUP($AV$8,Theme_Ranges[],3,0) -> 5 | AW18: =IF(D18="",0,1) -> 0 | AX18: =IF(COUNTIF($G18:$O18,"<="&AV18)>0,1,0) -> 0 | AY18: =IF(COUNTIF($P18:$W18,"<="&AV18)>0,1,0) -> 0 | AZ18: =IF(COUNTIF($X18:$AF18,"<="&AV18)>0,1,0) -> 0 | BA18: =IF(COUNTIF($AG18:$AN18,"<="&AV18)>0,1,0) -> 0 | BC18: =IF($D18="","",VLOOKUP($A18&G$6,Data_Table_1[[Full Name Theme Conc]:[Theme Ranking]],8,0)) | BD18: =IF($D18="","",VLOOKUP($A18&H$6,Data_Table_1[[Full Name Theme Conc]:[Theme Ranking]],8,0)) | BE18: =IF($D18="","",VLOOKUP($A18&I$6,Data_Table_1[[Full Name Theme Conc]:[Theme Ranking]],8,0)) | BF18: =IF($D18="","",VLOOKUP($A18&J$6,Data_Table_1[[Full Name Theme Conc]:[Theme Ranking]],8,0)) | BG18: =IF($D18="","",VLOOKUP($A18&K$6,Data_Table_1[[Full Name Theme Conc]:[Theme Ranking]],8,0)) | BH18: =IF($D18="","",VLOOKUP($A18&L$6,Data_Table_1[[Full Name Theme Conc]:[Theme Ranking]],8,0)) | BI18: =IF($D18="","",VLOOKUP($A18&M$6,Data_Table_1[[Full Name Theme Conc]:[Theme Ranking]],8,0)) | BJ18: =IF($D18="","",VLOOKUP($A18&N$6,Data_Table_1[[Full Name Theme Conc]:[Theme Ranking]],8,0)) | ... CJ18: =IF($D18="","",VLOOKUP($A18&AN$6,Data_Table_1[[Full Name Theme Conc]:[Theme Ranking]],8,0)) | CM18: =IF(AND(VLOOKUP($E$2,Theme_Ranges[],2,0)<=BC18,VLOOKUP($E$2,Theme_Ranges[],3,0)>=BC18),BC18,"") | CN18: =IF(AND(VLOOKUP($E$2,Theme_Ranges[],2,0)<=BD18,VLOOKUP($E$2,Theme_Ranges[],3,0)>=BD18),BD18,"") | CO18: =IF(AND(VLOOKUP($E$2,Theme_Ranges[],2,0)<=BE18,VLOOKUP($E$2,Theme_Ranges[],3,0)>=BE18),BE18,"") | CP18: =IF(AND(VLOOKUP($E$2,Theme_Ranges[],2,0)<=BF18,VLOOKUP($E$2,Theme_Ranges[],3,0)>=BF18),BF18,"") | CQ18: =IF(AND(VLOOKUP($E$2,Theme_Ranges[],2,0)<=BG18,VLOOKUP($E$2,Theme_Ranges[],3,0)>=BG18),BG18,"") | CR18: =IF(AND(VLOOKUP($E$2,Theme_Ranges[],2,0)<=BH18,VLOOKUP($E$2,Theme_Ranges[],3,0)>=BH18),BH18,"") | CS18: =IF(AND(VLOOKUP($E$2,Theme_Ranges[],2,0)<=BI18,VLOOKUP($E$2,Theme_Ranges[],3,0)>=BI18),BI18,"") | CT18: =IF(AND(VLOOKUP($E$2,Theme_Ranges[],2,0)<=BJ18,VLOOKUP($E$2,Theme_Ranges[],3,0)>=BJ18),BJ18,"") | ... DT18: =IF(AND(VLOOKUP($E$2,Theme_Ranges[],2,0)<=CJ18,VLOOKUP($E$2,Theme_Ranges[],3,0)>=CJ18),CJ18,"")
A19: =D19&" "&E19 | B19: =IF('Raw Data'!B14="","",'Raw Data'!B14) | C19: =IF('Raw Data'!C14="","",'Raw Data'!C14) | D19: =IF('Raw Data'!D14="","",'Raw Data'!D14) | E19: =IF('Raw Data'!E14="","",'Raw Data'!E14) | G19: =IF(OR(IFERROR(AND(VLOOKUP($E$2,Theme_Ranges[],2,0)<=BC19,VLOOKUP($E$2,Theme_Ranges[],3,0)>=BC19),FALSE),IFERROR(AND(VLOOKUP($E$3,Theme_Ranges[],2,0)<=BC19,VLOOKUP($E$3,Theme_Ranges[],3,0)>=BC19),FALSE)),BC19,"") | H19: =IF(OR(IFERROR(AND(VLOOKUP($E$2,Theme_Ranges[],2,0)<=BD19,VLOOKUP($E$2,Theme_Ranges[],3,0)>=BD19),FALSE),IFERROR(AND(VLOOKUP($E$3,Theme_Ranges[],2,0)<=BD19,VLOOKUP($E$3,Theme_Ranges[],3,0)>=BD19),FALSE)),BD19,"") | I19: =IF(OR(IFERROR(AND(VLOOKUP($E$2,Theme_Ranges[],2,0)<=BE19,VLOOKUP($E$2,Theme_Ranges[],3,0)>=BE19),FALSE),IFERROR(AND(VLOOKUP($E$3,Theme_Ranges[],2,0)<=BE19,VLOOKUP($E$3,Theme_Ranges[],3,0)>=BE19),FALSE)),BE19,"") | J19: =IF(OR(IFERROR(AND(VLOOKUP($E$2,Theme_Ranges[],2,0)<=BF19,VLOOKUP($E$2,Theme_Ranges[],3,0)>=BF19),FALSE),IFERROR(AND(VLOOKUP($E$3,Theme_Ranges[],2,0)<=BF19,VLOOKUP($E$3,Theme_Ranges[],3,0)>=BF19),FALSE)),BF19,"") | K19: =IF(OR(IFERROR(AND(VLOOKUP($E$2,Theme_Ranges[],2,0)<=BG19,VLOOKUP($E$2,Theme_Ranges[],3,0)>=BG19),FALSE),IFERROR(AND(VLOOKUP($E$3,Theme_Ranges[],2,0)<=BG19,VLOOKUP($E$3,Theme_Ranges[],3,0)>=BG19),FALSE)),BG19,"") | L19: =IF(OR(IFERROR(AND(VLOOKUP($E$2,Theme_Ranges[],2,0)<=BH19,VLOOKUP($E$2,Theme_Ranges[],3,0)>=BH19),FALSE),IFERROR(AND(VLOOKUP($E$3,Theme_Ranges[],2,0)<=BH19,VLOOKUP($E$3,Theme_Ranges[],3,0)>=BH19),FALSE)),BH19,"") | M19: =IF(OR(IFERROR(AND(VLOOKUP($E$2,Theme_Ranges[],2,0)<=BI19,VLOOKUP($E$2,Theme_Ranges[],3,0)>=BI19),FALSE),IFERROR(AND(VLOOKUP($E$3,Theme_Ranges[],2,0)<=BI19,VLOOKUP($E$3,Theme_Ranges[],3,0)>=BI19),FALSE)),BI19,"") | N19: =IF(OR(IFERROR(AND(VLOOKUP($E$2,Theme_Ranges[],2,0)<=BJ19,VLOOKUP($E$2,Theme_Ranges[],3,0)>=BJ19),FALSE),IFERROR(AND(VLOOKUP($E$3,Theme_Ranges[],2,0)<=BJ19,VLOOKUP($E$3,Theme_Ranges[],3,0)>=BJ19),FALSE)),BJ19,"") | ... AN19: =IF(OR(IFERROR(AND(VLOOKUP($E$2,Theme_Ranges[],2,0)<=CJ19,VLOOKUP($E$2,Theme_Ranges[],3,0)>=CJ19),FALSE),IFERROR(AND(VLOOKUP($E$3,Theme_Ranges[],2,0)<=CJ19,VLOOKUP($E$3,Theme_Ranges[],3,0)>=CJ19),FALSE)),CJ19,"") | AP19: =IF(D19="","",COUNTIF($G19:$O19,"<="&AV19)) | AQ19: =IF(D19="","",COUNTIF($P19:$W19,"<="&AV19)) | AR19: =IF(D19="","",COUNTIF($X19:$AF19,"<="&AV19)) | AS19: =IF(D19="","",COUNTIF($AG19:$AN19,"<="&AV19)) | AV19: =VLOOKUP($AV$8,Theme_Ranges[],3,0) -> 5 | AW19: =IF(D19="",0,1) -> 0 | AX19: =IF(COUNTIF($G19:$O19,"<="&AV19)>0,1,0) -> 0 | AY19: =IF(COUNTIF($P19:$W19,"<="&AV19)>0,1,0) -> 0 | AZ19: =IF(COUNTIF($X19:$AF19,"<="&AV19)>0,1,0) -> 0 | BA19: =IF(COUNTIF($AG19:$AN19,"<="&AV19)>0,1,0) -> 0 | BC19: =IF($D19="","",VLOOKUP($A19&G$6,Data_Table_1[[Full Name Theme Conc]:[Theme Ranking]],8,0)) | BD19: =IF($D19="","",VLOOKUP($A19&H$6,Data_Table_1[[Full Name Theme Conc]:[Theme Ranking]],8,0)) | BE19: =IF($D19="","",VLOOKUP($A19&I$6,Data_Table_1[[Full Name Theme Conc]:[Theme Ranking]],8,0)) | BF19: =IF($D19="","",VLOOKUP($A19&J$6,Data_Table_1[[Full Name Theme Conc]:[Theme Ranking]],8,0)) | BG19: =IF($D19="","",VLOOKUP($A19&K$6,Data_Table_1[[Full Name Theme Conc]:[Theme Ranking]],8,0)) | BH19: =IF($D19="","",VLOOKUP($A19&L$6,Data_Table_1[[Full Name Theme Conc]:[Theme Ranking]],8,0)) | BI19: =IF($D19="","",VLOOKUP($A19&M$6,Data_Table_1[[Full Name Theme Conc]:[Theme Ranking]],8,0)) | BJ19: =IF($D19="","",VLOOKUP($A19&N$6,Data_Table_1[[Full Name Theme Conc]:[Theme Ranking]],8,0)) | ... CJ19: =IF($D19="","",VLOOKUP($A19&AN$6,Data_Table_1[[Full Name Theme Conc]:[Theme Ranking]],8,0)) | CM19: =IF(AND(VLOOKUP($E$2,Theme_Ranges[],2,0)<=BC19,VLOOKUP($E$2,Theme_Ranges[],3,0)>=BC19),BC19,"") | CN19: =IF(AND(VLOOKUP($E$2,Theme_Ranges[],2,0)<=BD19,VLOOKUP($E$2,Theme_Ranges[],3,0)>=BD19),BD19,"") | CO19: =IF(AND(VLOOKUP($E$2,Theme_Ranges[],2,0)<=BE19,VLOOKUP($E$2,Theme_Ranges[],3,0)>=BE19),BE19,"") | CP19: =IF(AND(VLOOKUP($E$2,Theme_Ranges[],2,0)<=BF19,VLOOKUP($E$2,Theme_Ranges[],3,0)>=BF19),BF19,"") | CQ19: =IF(AND(VLOOKUP($E$2,Theme_Ranges[],2,0)<=BG19,VLOOKUP($E$2,Theme_Ranges[],3,0)>=BG19),BG19,"") | CR19: =IF(AND(VLOOKUP($E$2,Theme_Ranges[],2,0)<=BH19,VLOOKUP($E$2,Theme_Ranges[],3,0)>=BH19),BH19,"") | CS19: =IF(AND(VLOOKUP($E$2,Theme_Ranges[],2,0)<=BI19,VLOOKUP($E$2,Theme_Ranges[],3,0)>=BI19),BI19,"") | CT19: =IF(AND(VLOOKUP($E$2,Theme_Ranges[],2,0)<=BJ19,VLOOKUP($E$2,Theme_Ranges[],3,0)>=BJ19),BJ19,"") | ... DT19: =IF(AND(VLOOKUP($E$2,Theme_Ranges[],2,0)<=CJ19,VLOOKUP($E$2,Theme_Ranges[],3,0)>=CJ19),CJ19,"")
A20: =D20&" "&E20 | B20: =IF('Raw Data'!B15="","",'Raw Data'!B15) | C20: =IF('Raw Data'!C15="","",'Raw Data'!C15) | D20: =IF('Raw Data'!D15="","",'Raw Data'!D15) | E20: =IF('Raw Data'!E15="","",'Raw Data'!E15) | G20: =IF(OR(IFERROR(AND(VLOOKUP($E$2,Theme_Ranges[],2,0)<=BC20,VLOOKUP($E$2,Theme_Ranges[],3,0)>=BC20),FALSE),IFERROR(AND(VLOOKUP($E$3,Theme_Ranges[],2,0)<=BC20,VLOOKUP($E$3,Theme_Ranges[],3,0)>=BC20),FALSE)),BC20,"") | H20: =IF(OR(IFERROR(AND(VLOOKUP($E$2,Theme_Ranges[],2,0)<=BD20,VLOOKUP($E$2,Theme_Ranges[],3,0)>=BD20),FALSE),IFERROR(AND(VLOOKUP($E$3,Theme_Ranges[],2,0)<=BD20,VLOOKUP($E$3,Theme_Ranges[],3,0)>=BD20),FALSE)),BD20,"") | I20: =IF(OR(IFERROR(AND(VLOOKUP($E$2,Theme_Ranges[],2,0)<=BE20,VLOOKUP($E$2,Theme_Ranges[],3,0)>=BE20),FALSE),IFERROR(AND(VLOOKUP($E$3,Theme_Ranges[],2,0)<=BE20,VLOOKUP($E$3,Theme_Ranges[],3,0)>=BE20),FALSE)),BE20,"") | J20: =IF(OR(IFERROR(AND(VLOOKUP($E$2,Theme_Ranges[],2,0)<=BF20,VLOOKUP($E$2,Theme_Ranges[],3,0)>=BF20),FALSE),IFERROR(AND(VLOOKUP($E$3,Theme_Ranges[],2,0)<=BF20,VLOOKUP($E$3,Theme_Ranges[],3,0)>=BF20),FALSE)),BF20,"") | K20: =IF(OR(IFERROR(AND(VLOOKUP($E$2,Theme_Ranges[],2,0)<=BG20,VLOOKUP($E$2,Theme_Ranges[],3,0)>=BG20),FALSE),IFERROR(AND(VLOOKUP($E$3,Theme_Ranges[],2,0)<=BG20,VLOOKUP($E$3,Theme_Ranges[],3,0)>=BG20),FALSE)),BG20,"") | L20: =IF(OR(IFERROR(AND(VLOOKUP($E$2,Theme_Ranges[],2,0)<=BH20,VLOOKUP($E$2,Theme_Ranges[],3,0)>=BH20),FALSE),IFERROR(AND(VLOOKUP($E$3,Theme_Ranges[],2,0)<=BH20,VLOOKUP($E$3,Theme_Ranges[],3,0)>=BH20),FALSE)),BH20,"") | M20: =IF(OR(IFERROR(AND(VLOOKUP($E$2,Theme_Ranges[],2,0)<=BI20,VLOOKUP($E$2,Theme_Ranges[],3,0)>=BI20),FALSE),IFERROR(AND(VLOOKUP($E$3,Theme_Ranges[],2,0)<=BI20,VLOOKUP($E$3,Theme_Ranges[],3,0)>=BI20),FALSE)),BI20,"") | N20: =IF(OR(IFERROR(AND(VLOOKUP($E$2,Theme_Ranges[],2,0)<=BJ20,VLOOKUP($E$2,Theme_Ranges[],3,0)>=BJ20),FALSE),IFERROR(AND(VLOOKUP($E$3,Theme_Ranges[],2,0)<=BJ20,VLOOKUP($E$3,Theme_Ranges[],3,0)>=BJ20),FALSE)),BJ20,"") | ... AN20: =IF(OR(IFERROR(AND(VLOOKUP($E$2,Theme_Ranges[],2,0)<=CJ20,VLOOKUP($E$2,Theme_Ranges[],3,0)>=CJ20),FALSE),IFERROR(AND(VLOOKUP($E$3,Theme_Ranges[],2,0)<=CJ20,VLOOKUP($E$3,Theme_Ranges[],3,0)>=CJ20),FALSE)),CJ20,"") | AP20: =IF(D20="","",COUNTIF($G20:$O20,"<="&AV20)) | AQ20: =IF(D20="","",COUNTIF($P20:$W20,"<="&AV20)) | AR20: =IF(D20="","",COUNTIF($X20:$AF20,"<="&AV20)) | AS20: =IF(D20="","",COUNTIF($AG20:$AN20,"<="&AV20)) | AV20: =VLOOKUP($AV$8,Theme_Ranges[],3,0) -> 5 | AW20: =IF(D20="",0,1) -> 0 | AX20: =IF(COUNTIF($G20:$O20,"<="&AV20)>0,1,0) -> 0 | AY20: =IF(COUNTIF($P20:$W20,"<="&AV20)>0,1,0) -> 0 | AZ20: =IF(COUNTIF($X20:$AF20,"<="&AV20)>0,1,0) -> 0 | BA20: =IF(COUNTIF($AG20:$AN20,"<="&AV20)>0,1,0) -> 0 | BC20: =IF($D20="","",VLOOKUP($A20&G$6,Data_Table_1[[Full Name Theme Conc]:[Theme Ranking]],8,0)) | BD20: =IF($D20="","",VLOOKUP($A20&H$6,Data_Table_1[[Full Name Theme Conc]:[Theme Ranking]],8,0)) | BE20: =IF($D20="","",VLOOKUP($A20&I$6,Data_Table_1[[Full Name Theme Conc]:[Theme Ranking]],8,0)) | BF20: =IF($D20="","",VLOOKUP($A20&J$6,Data_Table_1[[Full Name Theme Conc]:[Theme Ranking]],8,0)) | BG20: =IF($D20="","",VLOOKUP($A20&K$6,Data_Table_1[[Full Name Theme Conc]:[Theme Ranking]],8,0)) | BH20: =IF($D20="","",VLOOKUP($A20&L$6,Data_Table_1[[Full Name Theme Conc]:[Theme Ranking]],8,0)) | BI20: =IF($D20="","",VLOOKUP($A20&M$6,Data_Table_1[[Full Name Theme Conc]:[Theme Ranking]],8,0)) | BJ20: =IF($D20="","",VLOOKUP($A20&N$6,Data_Table_1[[Full Name Theme Conc]:[Theme Ranking]],8,0)) | ... CJ20: =IF($D20="","",VLOOKUP($A20&AN$6,Data_Table_1[[Full Name Theme Conc]:[Theme Ranking]],8,0)) | CM20: =IF(AND(VLOOKUP($E$2,Theme_Ranges[],2,0)<=BC20,VLOOKUP($E$2,Theme_Ranges[],3,0)>=BC20),BC20,"") | CN20: =IF(AND(VLOOKUP($E$2,Theme_Ranges[],2,0)<=BD20,VLOOKUP($E$2,Theme_Ranges[],3,0)>=BD20),BD20,"") | CO20: =IF(AND(VLOOKUP($E$2,Theme_Ranges[],2,0)<=BE20,VLOOKUP($E$2,Theme_Ranges[],3,0)>=BE20),BE20,"") | CP20: =IF(AND(VLOOKUP($E$2,Theme_Ranges[],2,0)<=BF20,VLOOKUP($E$2,Theme_Ranges[],3,0)>=BF20),BF20,"") | CQ20: =IF(AND(VLOOKUP($E$2,Theme_Ranges[],2,0)<=BG20,VLOOKUP($E$2,Theme_Ranges[],3,0)>=BG20),BG20,"") | CR20: =IF(AND(VLOOKUP($E$2,Theme_Ranges[],2,0)<=BH20,VLOOKUP($E$2,Theme_Ranges[],3,0)>=BH20),BH20,"") | CS20: =IF(AND(VLOOKUP($E$2,Theme_Ranges[],2,0)<=BI20,VLOOKUP($E$2,Theme_Ranges[],3,0)>=BI20),BI20,"") | CT20: =IF(AND(VLOOKUP($E$2,Theme_Ranges[],2,0)<=BJ20,VLOOKUP($E$2,Theme_Ranges[],3,0)>=BJ20),BJ20,"") | ... DT20: =IF(AND(VLOOKUP($E$2,Theme_Ranges[],2,0)<=CJ20,VLOOKUP($E$2,Theme_Ranges[],3,0)>=CJ20),CJ20,"")
